BEGIN:VCALENDAR
VERSION:2.0
PRODID:-//974 Qatar - ECPv6.2.9//NONSGML v1.0//EN
CALSCALE:GREGORIAN
METHOD:PUBLISH
X-WR-CALNAME:974 Qatar
X-ORIGINAL-URL:http://974qa.net
X-WR-CALDESC:Events for 974 Qatar
REFRESH-INTERVAL;VALUE=DURATION:PT1H
X-Robots-Tag:noindex
X-PUBLISHED-TTL:PT1H
BEGIN:VTIMEZONE
TZID:Europe/Moscow
BEGIN:STANDARD
TZOFFSETFROM:+0300
TZOFFSETTO:+0300
TZNAME:MSK
DTSTART:20240101T000000
END:STANDARD
END:VTIMEZONE
BEGIN:VEVENT
DTSTART;TZID=Europe/Moscow:20241129T160000
DTEND;TZID=Europe/Moscow:20241201T210000
DTSTAMP:20260421T114011
CREATED:20240605T093042Z
LAST-MODIFIED:20240707T133350Z
UID:6653-1732896000-1733086800@974qa.net
SUMMARY:Formula 1 Qatar Airways Qatar Grand Prix 2024
DESCRIPTION:Watch as your favorite F1 stars compete for a podium finish at the spectacular Lusail International Circuit. \nDate: November 29 – December 1 2024 \nAccess: Ticketed. Visit tickets.lcsc.qa to buy tickets  \nLocation: Lusail International Circuit \nFORMULA 1 QATAR AIRWAYS QATAR GRAND PRIX is back at Lusail International Circuit! Gear up to experience an exhilarating weekend as you watch the world’s top-tier drivers battle it out around Qatar’s iconic circuit.  The on-track action will be leveled up with live music\, entertainment and hospitality experiences to keep you entertained all weekend. \n 
URL:http://974qa.net/event/formula-1-qatar-airways-qatar-grand-prix-2024/
LOCATION:Lusail International Circuit\, Al Wusail\, North Relief Road\, Doha\, Lusail\, Qatar
CATEGORIES:Entertainment,Sports
ATTACH;FMTTYPE=image/jpeg:http://974qa.net/wp-content/uploads/2024/06/Formula-1-Qatar-Airways-Qatar-Grand-Prix-2024-tickets-watch-Lusail-Circuit-Qatar-GP-2024.jpg
END:VEVENT
BEGIN:VEVENT
DTSTART;TZID=Europe/Moscow:20241210T150000
DTEND;TZID=Europe/Moscow:20241218T230000
DTSTAMP:20260421T114011
CREATED:20241208T132939Z
LAST-MODIFIED:20241208T133111Z
UID:10887-1733842800-1734562800@974qa.net
SUMMARY:Darb Al Saai 2024
DESCRIPTION:In celebration of Qatar National Day\, enjoy all the activities and happenings at the Darb Al Saai venue this December. \nDate: December 10 to 18\, 2024 \nTime: 3 PM – 11 PM \nAccess: Free to attend. \nLocation: Darb Al Saai \nInstagram: @moc_qatar
URL:http://974qa.net/event/darb-al-saai-2024/
LOCATION:Darb Al Saai\, CCJ3+FC\, Umm Salal Muhammed\, Qatar
CATEGORIES:Art & Culture,Entertainment
ATTACH;FMTTYPE=image/jpeg:http://974qa.net/wp-content/uploads/2024/03/Darb_Al_Saai_Garangao_Ramadan_2024_Qatar.jpg
ORGANIZER;CN="Ministry of Culture":MAILTO:info@moc.gov.qa
END:VEVENT
BEGIN:VEVENT
DTSTART;TZID=Europe/Moscow:20241212T160000
DTEND;TZID=Europe/Moscow:20241221T213000
DTSTAMP:20260421T114011
CREATED:20241208T130048Z
LAST-MODIFIED:20241208T130338Z
UID:10876-1734019200-1734816600@974qa.net
SUMMARY:Qatar Balloon Festival 2024
DESCRIPTION:Experience sunrise balloon flights\, illuminated balloons\, and daily entertainment at Qatar Balloon Festival 2024. \nDate: 12 – 21 December 2024 \nTime: 4 PM – 10 PM \nAccess: Free to attend. \nLocation: Katara Cultural Village \nContact: info@qatarballoonfestival.com \nInstagram: @qbfestival \nWebsite: qatarballoonfestival.com
URL:http://974qa.net/event/qatar-balloon-festival-2024/
LOCATION:Katara Cultural Village\, Doha\, Qatar
CATEGORIES:Entertainment
ATTACH;FMTTYPE=image/webp:http://974qa.net/wp-content/uploads/2023/12/Qatar_balloon_festival_2023.webp
ORGANIZER;CN="Qatar Balloon Festival":MAILTO:info@qatarballoonfestival.com
END:VEVENT
BEGIN:VEVENT
DTSTART;TZID=Europe/Moscow:20241218T100000
DTEND;TZID=Europe/Moscow:20250118T220000
DTSTAMP:20260421T114011
CREATED:20241229T092151Z
LAST-MODIFIED:20250108T105703Z
UID:11155-1734516000-1737237600@974qa.net
SUMMARY:Ras Abrouq events
DESCRIPTION:لقراءة هذا المقال باللغة العربية اضغط هنا\nDiscover the captivating area of Ras Abrouq\, a destination offering an exclusive desert experience. \nWhen: 18 December 2024 – 18 January 2025 \nTimings: 10 AM – 10 PM \nAccess: Ticketed \nGeneral admission tickets: \nWeekdays: Kids QAR 10 and Adults QAR 30 Weekends: Kids QAR 10 and Adults QAR 50 \nTo book tickets visit https://doha.platinumlist.net/ar/event-tickets/ras-abrouq
URL:http://974qa.net/event/ras-abrouq-events/
LOCATION:Our Habitas Ras Abrouq
CATEGORIES:Art & Culture,Entertainment
ATTACH;FMTTYPE=image/jpeg:http://974qa.net/wp-content/uploads/2024/12/Ras-Abrouq-Qatar-new-destination-activities-doha.jpg
END:VEVENT
END:VCALENDAR