BEGIN:VCALENDAR
VERSION:2.0
PRODID:-//974 Qatar - ECPv6.2.9//NONSGML v1.0//EN
CALSCALE:GREGORIAN
METHOD:PUBLISH
X-WR-CALNAME:974 Qatar
X-ORIGINAL-URL:http://974qa.net
X-WR-CALDESC:Events for 974 Qatar
REFRESH-INTERVAL;VALUE=DURATION:PT1H
X-Robots-Tag:noindex
X-PUBLISHED-TTL:PT1H
BEGIN:VTIMEZONE
TZID:UTC
BEGIN:STANDARD
TZOFFSETFROM:+0000
TZOFFSETTO:+0000
TZNAME:UTC
DTSTART:20240101T000000
END:STANDARD
END:VTIMEZONE
BEGIN:VEVENT
DTSTART;TZID=UTC:20240301T153000
DTEND;TZID=UTC:20240301T193000
DTSTAMP:20260421T005035
CREATED:20240218T044011Z
LAST-MODIFIED:20240218T044555Z
UID:4356-1709307000-1709321400@974qa.net
SUMMARY:ONE 166: Qatar - ONE Championship at Lusail Sports Arena
DESCRIPTION:ONE Championship will make its debut in Qatar with the ‘ONE 166:Qatar’ martial arts world championship on March 1st\, 2024 at the Lusail Sports Arena. \nThe event will feature five ONE World Championship fights across MMA\, Muay Thai\, kickboxing\, and submission grappling. Additional event details and headline bouts will also be announced in the coming weeks. \n\nFIGHT CARD\nMIDDLEWEIGHT MMA WORLD CHAMPIONSHIP\n\nReinier de Ridder (Netherlands) VS Anatoly Malykhin (Russia)\n\nSTRAWWEIGHT MMA WORLD CHAMPIONSHIP\n\nJarred Brooks (United States) VS Joshua Pacio (Philippines)\n\nFEATHERWEIGHT MMA WORLD CHAMPIONSHIP\n\nTang Kai (China) VS Thanh Le (United States / Vietnam)\n\nATOMWEIGHT MMA WORLD CHAMPIONSHIP\n\nStamp Fairtex (Thailand) VS Denice Zamboanga (Philippines)\n\nWELTERWEIGHT SUBMISSION GRAPPLING WORLD CHAMPIONSHIP\n\nTye Ruotolo (United States) VS Izaak Michell (Australia)\n\nHEAVYWEIGHT MMA\n\nArjan Bhullar (India) VS Amir Aliakbari (Iran)\n\nFLYWEIGHT SUBMISSION GRAPPLING\n\nOsamah Almarwai (Yemen) VS Cleber Sousa (Brazil)\n\n  \nTicketing\n\nPurchase from: Virgin Megastore or Q-Tickets\nPrice (Early bird prices):\n\nCategory 7 – 303 | Category 7 – 302: QR 100\nCategory 6 – 301 | Category 6 – 304 | Category 6 – 305 | Category 6 – 306 | Category 6 – 307: QR 250\nCategory 5 – 304 | Category 5 – 305 | Category 5 – 306 | Category 5 – 307: QR 300\nCategory 4 – 101 | Category 4 – 102 | Category 4 – 103 | Category 4 – 104 | Category 4 – 105 | Category 4 – 106: QR 350\nCategory 3 – 101 | Category 3 – 102 | Category 3 – 103 | Category 3 – 104 | Category 3 – 105 | Category 3 – 106: QR 550\nCategory 2 – 2: QR 1\,250\nCategory 1 – 2 | Category 1 – 3: QR 2\,500\nVIP A | VIP B | VIP C | VIP D: QR 4\,500\nVVIP A | VVIP B | VVIP D: QR 8\,500\nWheelchair – 106 | Wheelchair – 104: QR 550\n\n\n\nStay up-to-date with the latest happenings in Qatar with 974qa.net or follow us on Instagram.
URL:http://974qa.net/event/one-166-qatar-one-championship-at-lusail-sports-arena/
LOCATION:Lusail Sports Arena\, Qatar
CATEGORIES:Entertainment,Sports
ATTACH;FMTTYPE=image/jpeg:http://974qa.net/wp-content/uploads/2024/02/one-166-championship-martial-arts-lusail-sports-arena-974qatar-e1708241366117.jpg
END:VEVENT
BEGIN:VEVENT
DTSTART;TZID=UTC:20240301T200000
DTEND;TZID=UTC:20240301T230000
DTSTAMP:20260421T005035
CREATED:20240218T042207Z
LAST-MODIFIED:20240219T104155Z
UID:4352-1709323200-1709334000@974qa.net
SUMMARY:Kevin Hart live in Qatar
DESCRIPTION:Mark your calendars! Qatar Airways presents Kevin Hart: Brand New Material for one night only in Doha on 1 March! \nPrepare for an uproarious evening in Qatar as Kevin Hart\, the renowned American comedian and actor\, brings his side-splitting stand-up show to Doha! \nPresented by Qatar Airways\, the exclusive ‘Brand New Material’ performance is scheduled for March 1\, 2024\, at 8pm at the Katara Beach Arena. \nTicket options range from QR400 for Silver to QR20\,000 for Sky Box seats\, with Gold\, Platinum\, VIP\, and VVIP categories available at QR550\, QR750\, QR1\,500\, and QR2\,500 respectively. \n“I just want to say I’m excited for flying in my first show ever in Doha!” shared the artist in a video released by Qatar Airways. \nKnown for his infectious energy and impeccable timing\, the comedy megastar promises to entertain the audience with his signature humor. \nThe show is open to ages 16 and above\, and attendees must present printed tickets for entry as no phones will be permitted inside the venue. \nPrepare for an evening filled with laughter! Secure your tickets now. \nStay up-to-date with the latest happenings in Qatar with 974qa.net or follow us on Instagram.
URL:http://974qa.net/event/kevin-hart-live-in-qatar/
LOCATION:Katara Beach Arena\, Qatar
CATEGORIES:Entertainment
ATTACH;FMTTYPE=image/jpeg:http://974qa.net/wp-content/uploads/2024/02/kevin-hart-live-in-qatar-2024-974qatar.jpeg
END:VEVENT
END:VCALENDAR