BEGIN:VCALENDAR
VERSION:2.0
PRODID:-//974 - ECPv6.2.9//NONSGML v1.0//EN
CALSCALE:GREGORIAN
METHOD:PUBLISH
X-WR-CALNAME:974
X-ORIGINAL-URL:https://974qa.net/ar
X-WR-CALDESC:Events for 974
REFRESH-INTERVAL;VALUE=DURATION:PT1H
X-Robots-Tag:noindex
X-PUBLISHED-TTL:PT1H
BEGIN:VTIMEZONE
TZID:Europe/Moscow
BEGIN:STANDARD
TZOFFSETFROM:+0300
TZOFFSETTO:+0300
TZNAME:MSK
DTSTART:20240101T000000
END:STANDARD
END:VTIMEZONE
BEGIN:VEVENT
DTSTART;TZID=Europe/Moscow:20240513T183000
DTEND;TZID=Europe/Moscow:20240513T233000
DTSTAMP:20260423T082713
CREATED:20240423T095043Z
LAST-MODIFIED:20240423T095043Z
UID:1468-1715625000-1715643000@974qa.net
SUMMARY:أندريا بوتشيلي في قطر
DESCRIPTION:تستضيف ” Visit Qatar”، مغني الأوبرا الإيطالي الشهير، أندريا بوتشيلي، في قطر، وذلك احتفالاً بمرور ثلاثين عاماً على انطلاق المسيرة الفنية لـ “التينور” الإيطالي في عالم الموسيقى والغناء الأوبرالي. \nالتاريخ: 13 مايو 2024. \nالتوقيت: 8:30 مساءً. (تُفتح الأبواب الساعة 6:30 مساءً) \nالدخول: يحتاح إلى بطاقة، يمكن شراؤها من virginmegastore.me \nالمكان: صالة لوسيل متعددة الاستخدامات. \nأهلاً وسهلاً بالضيوف للاستمتاع بليلة مليئة بالعروض الموسيقية الملهمة والممتعة التي يقدمها أحد أعظم الأصوات الإيطالية.
URL:https://974qa.net/ar/event/%d8%a3%d9%86%d8%af%d8%b1%d9%8a%d8%a7-%d8%a8%d9%88%d8%aa%d8%b4%d9%8a%d9%84%d9%8a-%d9%81%d9%8a-%d9%82%d8%b7%d8%b1
LOCATION:ساحة لوسيل الرياضية\, Qatar
CATEGORIES:موسيقا
ATTACH;FMTTYPE=image/jpeg:https://974qa.net/ar/wp-content/uploads/sites/3/2024/04/Andrea_Bocelli_Qatar_2024.jpg
END:VEVENT
END:VCALENDAR