BEGIN:VCALENDAR
VERSION:2.0
PRODID:-//974 - ECPv6.2.9//NONSGML v1.0//EN
CALSCALE:GREGORIAN
METHOD:PUBLISH
X-ORIGINAL-URL:https://974qa.net/ar
X-WR-CALDESC:Events for 974
REFRESH-INTERVAL;VALUE=DURATION:PT1H
X-Robots-Tag:noindex
X-PUBLISHED-TTL:PT1H
BEGIN:VTIMEZONE
TZID:UTC
BEGIN:STANDARD
TZOFFSETFROM:+0000
TZOFFSETTO:+0000
TZNAME:UTC
DTSTART:20240101T000000
END:STANDARD
END:VTIMEZONE
BEGIN:VEVENT
DTSTART;TZID=UTC:20240618T200000
DTEND;TZID=UTC:20240619T000000
DTSTAMP:20260420T003237
CREATED:20240604T074012Z
LAST-MODIFIED:20240623T063429Z
UID:2469-1718740800-1718755200@974qa.net
SUMMARY:قطر للسياحة تقدم ليالي الحفلات الموسيقية في عيد الأضحى 2024
DESCRIPTION:تعلن قطر للسياحة عن حفلين موسيقيين هذا العيد:\n“وتبقى ذكرى“؛ تحية موسيقية للألحان الخالدة لأيقونة عربية وسيؤديها أسماء لمنور وأميمة طالب، و”ليلة الزمن الجميل” بمشاركة الرائعتين مي فاروق وريهام عبد الحكيم. \nالتاريخ: 18 و19 يونيو 2024 \nالتوقيت: 8 مساء. \nالدخول: عبر تذاكر: وتبقى ذكرى – ليلة الزمن الجميل \nالمكان: مسرح المياسة في مركز قطر الوطني للمؤتمرات. \nإنستغرام: @visitqatar
URL:https://974qa.net/ar/event/%d9%82%d8%b7%d8%b1-%d9%84%d9%84%d8%b3%d9%8a%d8%a7%d8%ad%d8%a9-%d8%aa%d9%82%d8%af%d9%85-%d9%84%d9%8a%d8%a7%d9%84%d9%8a-%d8%a7%d9%84%d8%ad%d9%81%d9%84%d8%a7%d8%aa-%d8%a7%d9%84%d9%85%d9%88%d8%b3%d9%8a
LOCATION:مركز قطر الوطني للمؤتمرات\, قطر، الريان\, Qatar
CATEGORIES:ترفيه,موسيقا
ATTACH;FMTTYPE=image/webp:https://974qa.net/ar/wp-content/uploads/sites/3/2024/06/Lailat-Elzaman-Eljameel-Zikra-Remains-Qatar-Tourism-Music-Concert-Eid-al-Adha-2024.webp
END:VEVENT
END:VCALENDAR