BEGIN:VCALENDAR
VERSION:2.0
PRODID:-//974 - ECPv6.2.9//NONSGML v1.0//EN
CALSCALE:GREGORIAN
METHOD:PUBLISH
X-WR-CALNAME:974
X-ORIGINAL-URL:https://974qa.net/ar
X-WR-CALDESC:Events for 974
REFRESH-INTERVAL;VALUE=DURATION:PT1H
X-Robots-Tag:noindex
X-PUBLISHED-TTL:PT1H
BEGIN:VTIMEZONE
TZID:Asia/Qatar
BEGIN:STANDARD
TZOFFSETFROM:+0300
TZOFFSETTO:+0300
TZNAME:+03
DTSTART:20240101T000000
END:STANDARD
TZID:Europe/Moscow
BEGIN:STANDARD
TZOFFSETFROM:+0300
TZOFFSETTO:+0300
TZNAME:MSK
DTSTART:20240101T000000
END:STANDARD
END:VTIMEZONE
BEGIN:VEVENT
DTSTART;TZID=Asia/Qatar:20240616T073000
DTEND;TZID=Asia/Qatar:20240830T180000
DTSTAMP:20260422T051515
CREATED:20240622T153229Z
LAST-MODIFIED:20240714T062255Z
UID:2601-1718523000-1725040800@974qa.net
SUMMARY:مخيمات الصيف في قطر 2024
DESCRIPTION:To check this event in English\, press here.\nاستكشف العروض المتنوعة لبعض المخيمات الصيفية لعام 2024 في قطر، والتي تلبي إبداعات الأطفال والأنشطة الرياضية والتجارب التعليمية في أماكن مختلفة في جميع أنحاء البلاد. \nالمخيم الصيفي في متحف\n\n\n \nمخيم متحف الصيفي هو نشاط صيفي إبداعي وجذاب مصمم لإلهام الأطفال لاستكشاف عالم الفن، وإطلاق العنان لإبداعهم، والاستمتاع أثناء تعلم مهارات فنية قيمة. \nيقدم المخيم مجموعة متنوعة من الأنشطة وورش العمل، ويوفر بيئة داعمة للأطفال للتعبير عن أنفسهم وتطوير مواهبهم الفنية. \nالتاريخ: من 25 إلى 27 يونيو. \nالتوقيت: من 2 ظهراً حتى 6 مساء. \nالعمر: من 10 إلى 15 عاماً. \nالدخول: مجاني ولكن يجب التسجيل. \nالمكان: مكتبة المتحف \nإنستغرام: @mathafmodern \n\nقطر مول\n\n\nيقدم مخيم قطر مول الصيفي للأطفال ورشات ونشاطات أسبوعية للأطفال! \nاستمتعوا ببرنامج مثير يضم كيدز موندو إلى رش أكشن بارك، وإكستريم لاند، وسينما نوفو.\nوسيتعلم الأطفال أسلوب الحياة الصحي ويتعرفون أكثر على قطاع الضيافة، ويتجولون في مجمع ساك الطبي، وينخرطون في حرف إبداعية ومشاريع عملية. \nالتاريخ: من 30 يونيو إلى 29 أغسطس (من الأحد إلى الخميس). \nالتوقيت: من 7:30 صباحاً إلى 2:30 عصراً. \nالعمر: من 4 إلى 14 سنة \nالدخول:للاشتراك الأسبوعي أو الشهري، بإمكانكم الاتصال بالأرقام التالية: 30038481 – 55634714 – 66974988 \nالمكان: قطر مول \nإنستغرام: @mallofqatar \n\nمخيم صيف كيدزانيا\n\n\nيقدم مخيم كيدزانيا الدوحة الصيفي برنامجًا شاملاً مصممًا للأطفال للتعلم واللعب والاستكشاف طوال أشهر الصيف. يمكن للمشاركين المشاركة في مجموعة متنوعة من الأنشطة التي تهدف إلى تجارب ممتعة وتعليمية، مما يوفر بيئة منظمة وممتعة. \nالتاريخ: من 16 يونيو إلى 30 أغسطس \nالدخول: 699 ريال قطري في الأسبوع. \nالمكان: كيدزانيا الدوحة – أسباير بارك \nللتواصل: 30732225 – 50504256 – 66640671 – 50075372 \nإنستغرام: @kidzania.doha \nمركز إروي الرياضي\n \nاستمتع بتجربة صيفية مليئة بالأنشطة الرياضية المتعددة في المعسكر الصيفي لمركز إروي الرياضي الواقع في الوعب في مدرسة فالي فورج. صُمم المخيم للأطفال الذين تتراوح أعمارهم بين 3 و12 عامًا، ويقدم مجموعة من الأنشطة الرياضية الممتعة في بيئة آمنة وخاضعة للإشراف. \nالتاريخ: من 23 يونيو إلى 22 أغسطس. \nالتوقيت: من 8 صباحاً حتى 1 ظهراً. \nالعمر: من 3 إلى 12 عاماً. \nالدخول: التسجيل مطلوب. \nالمكان: الوعب – مدرسة فالي فورج الأمريكية \nللتواصل: 60060440 – 66223222 \nإنستغرام: @eroesports.qa \nمكتبة قطر الوطنية\n \nتستضيف مكتبة قطر الوطنية مخيمها الصيفي الخامس للأطفال والذي يقدم العديد من الأنشطة المثيرة. بما في ذلك جلسات العلوم والتكنولوجيا والهندسة والرياضيات وورش العمل الإبداعية وأوقات القصص ونوادي الكتب والبرامج التعليمية عن أنبياء الله. \nالتاريخ: من 23 يونيو إلى 29 أغسطس. \nالدخول: اضغط هنا للتسجيل. \nالمكان: المدينة التعليمية \nالتعليم الجزيئي مع نادي شاطئ الدوحة\n \nانضم إلى المعسكر الصيفي الجزيئي في نادي شاطئ الدوحة لتجارب علمية مثيرة وطهي صحي وتحديات هندسية مبتكرة وأنشطة بناء الفريق والمرح على الشاطئ. سيتمكن المعسكرون من الاستمتاع بالترامبولين والسباحة والمنتزهات الترفيهية العائمة والتجديف بالكاياك. \nالتاريخ: من 23 يونيو إلى 15 أغسطس. \nالتوقيت: من 8 صباحاً حتى 1 ظهراً. \nالدخول: التسجيل مطلوب. \nالمكان: نادي شاطئ الدوحة \nللتواصل: 77016466 \nإنستغرام: @molecular_education\n \nقادة الغد – ميدان الهدف للرماية\n \n  \n  \n  \n  \nيطوّر المعسكر الأول لنادي الهدف الصيفي للرماية مهارات القيادة والعمل الجماعي والتواصل. ويشمل دورات سلامة الأسلحة والتدريب على الرماية وأنشطة بناء الفريق ووجبة الإفطار والجوائز والشهادات. تُعقد الجلسات شهريًا، بأوقات مختلفة للأعمار من 7 إلى 10 أعوام ومن 10 إلى 17 عامًا. \nالتاريخ: من 7 يوليو. \nالتوقيت: الأحد والأثنين والثلاثاء من 10 صباحًا إلى 12 ظهرًا (من 7 إلى 10 سنوات)\nالاثنين والثلاثاء والأربعاء والخميس من الساعة 12:00 ظهرًا حتى 2:30 ظهرًا (من 10 سنوات فما فوق). \nالدخول: التسجيل مطلوب. \nمن 7 إلى 10 سنوات – 850 ريال قطري للطفل. \nمن 10 إلى 17 عامًا – 1650 ريال قطري للطفل (4 جلسات في الأسبوع: الاثنين والثلاثاء والأربعاء والخميس. بإجمالي 16 جلسة في الشهر). \nالمكان: ميدان الهدف للرماية – أسباير زون \nللتواصل: 74779977 (واتساب) \nإنستغرام: @alhadafrange
URL:https://974qa.net/ar/event/%d9%85%d8%ae%d9%8a%d9%85%d8%a7%d8%aa-%d8%a7%d9%84%d8%b5%d9%8a%d9%81-%d9%81%d9%8a-%d9%82%d8%b7%d8%b1-2024
CATEGORIES:تعليم
ATTACH;FMTTYPE=image/webp:https://974qa.net/ar/wp-content/uploads/sites/3/2024/06/Summer-Camps-Qatar-2024-Doha.webp
END:VEVENT
BEGIN:VEVENT
DTSTART;TZID=Europe/Moscow:20240623T130000
DTEND;TZID=Europe/Moscow:20240829T180000
DTSTAMP:20260422T051515
CREATED:20240605T105023Z
LAST-MODIFIED:20240714T062445Z
UID:2227-1719147600-1724954400@974qa.net
SUMMARY:المخيم الصيفي للأطفال في مكتبة قطر الوطنية
DESCRIPTION:To check this event in English\, press here.\nتستضيف مكتبة قطر الوطنية مخيمها الصيفي الخامس للأطفال والذي يقدم العديد من الأنشطة المثيرة. \nالتاريخ: من 23 يونيو إلى 29 أغسطس 2024. \nالدخول: اضغط هنا للتسجيل. \nالمكان: مكتبة قطر الوطنية.\n \nيقدم المخيم الصيفي الخامس للأطفال في مكتبة قطر الوطنية مجموعة متنوعة من الأنشطة المثيرة، بما في ذلك جلسات العلوم والتكنولوجيا والهندسة والرياضيات، وورش العمل الإبداعية، وحكاية القصص، ونوادي الكتب، والبرامج التعليمية عن أنبياء الله. يُقام المعسكر بين 23 يونيو و29 أغسطس 2024.\nانقر هنا لمعرفة المزيد والتسجيل.
URL:https://974qa.net/ar/event/%d8%a7%d9%84%d9%85%d8%ae%d9%8a%d9%85-%d8%a7%d9%84%d8%b5%d9%8a%d9%81%d9%8a-%d9%84%d9%84%d8%a3%d8%b7%d9%81%d8%a7%d9%84-%d9%81%d9%8a-%d9%85%d9%83%d8%aa%d8%a8%d8%a9-%d9%82%d8%b7%d8%b1-%d8%a7%d9%84%d9%88
LOCATION:مكتبة قطر الوطنية\, المدينة التعليمية، شارع اللقطة\, الدوحة\, Doha\, Qatar
CATEGORIES:تعليم
ATTACH;FMTTYPE=image/webp:https://974qa.net/ar/wp-content/uploads/sites/3/2024/06/QATAR_National_Library_Summer_Camp_for_kids_2024.webp
END:VEVENT
BEGIN:VEVENT
DTSTART;TZID=Asia/Qatar:20240715T140000
DTEND;TZID=Asia/Qatar:20240814T220000
DTSTAMP:20260422T051515
CREATED:20240627T134649Z
LAST-MODIFIED:20240714T062148Z
UID:2570-1721052000-1723672800@974qa.net
SUMMARY:مهرجان قطر للألعاب 2024
DESCRIPTION:To check this event in English\, press here.\nاستعدّ لمهرجان قطر للألعاب الأول من نوعه في قطر حيث ستقابل شخصياتك المحبوبة، وتتسوّق ألعابك من علامتك التجارية المفضلة. توقّع العديد من المفاجآت الأخرى أيضاً. \nالتاريخ: من 15 يوليو إلى 14 أغسطس. \nالمواعيد: من 2 ظهرًا حتى 10 مساءً (طوال أيام الأسبوع) – من 2 ظهراً حتى 11 مساءً (الخميس إلى السبت). \nالدخول: بواسطة تذاكر. \nالمكان: مركز الدوحة للمعارض والمؤتمرات \nانستغرام: @qatartoyfestival \nتحت عنوان “مغامرات.. حكايات.. وألعاب” سيستضيف مهرجان قطر للألعاب أكثر من 25 من أكبر العلامات التجارية للألعاب وأكثرها شهرة في العالم، بما في ذلك باربي، وبليبي، وبلووي، وكوكوميلون، وديزني، وهابي كابي، ومارفيل، وفورتنايت، وترانسفورمرز.
URL:https://974qa.net/ar/event/%d9%85%d9%87%d8%b1%d8%ac%d8%a7%d9%86-%d9%82%d8%b7%d8%b1-%d9%84%d9%84%d8%a3%d9%84%d8%b9%d8%a7%d8%a8-2024
CATEGORIES:ترفيه,مهرجانات
ATTACH;FMTTYPE=image/webp:https://974qa.net/ar/wp-content/uploads/sites/3/2024/06/Qatar-Toy-Festival-2024.webp
END:VEVENT
BEGIN:VEVENT
DTSTART;TZID=Asia/Qatar:20240716T100000
DTEND;TZID=Asia/Qatar:20240811T220000
DTSTAMP:20260422T051515
CREATED:20240707T150403Z
LAST-MODIFIED:20240714T062024Z
UID:2799-1721124000-1723413600@974qa.net
SUMMARY:معرض صيف قطر التجاري
DESCRIPTION:To check this event in English\, press here.\nيعرض معرض قطر التجاري الصيفي مجموعة متنوعة من المنتجات من أكثر من 15 دولة، حيث يقدم كل شيء بدءًا من العطور والإكسسوارات وحتى ديكور المنزل والأحذية والسجاد والمنتجات الغذائية والعباءات. \nالتاريخ: من 16 يوليو 2024 إلى 11 أغسطس 2024 \nالتوقيت: 10:00 صباحًا – 10:00 مساءً\n3:00 مساءً – 10:00 مساءً (جمعة) \nالدخول: مجاني. \nالمكان: مركز الدوحة للمعارض والمؤتمرات \nيعد هذا الحدث بتقديم مجموعة واسعة من الضروريات اليومية لجميع أفراد الأسرة، مما يجعله مكانًا لا بد منه للمتسوقين الذين يبحثون عن سلع فريدة وعالية الجودة.
URL:https://974qa.net/ar/event/%d9%85%d8%b9%d8%b1%d8%b6-%d8%b5%d9%8a%d9%81-%d9%82%d8%b7%d8%b1-%d8%a7%d9%84%d8%aa%d8%ac%d8%a7%d8%b1%d9%8a
LOCATION:مركز الدوحة للمعارض والمؤتمرات\, مركز الدوحة للمعارض والمؤتمرات، ويست باي\, الدوحة\, Qatar
CATEGORIES:مؤتمرات ومعارض
ATTACH;FMTTYPE=image/webp:https://974qa.net/ar/wp-content/uploads/sites/3/2024/07/QATAR-SUMMER-TRADE-FAIR-2024-DECC-Doha-Qatar.webp
END:VEVENT
BEGIN:VEVENT
DTSTART;TZID=Asia/Qatar:20240718T160000
DTEND;TZID=Asia/Qatar:20240817T230000
DTSTAMP:20260422T051516
CREATED:20240724T143215Z
LAST-MODIFIED:20240724T143308Z
UID:3268-1721318400-1723935600@974qa.net
SUMMARY:ورشة الفن للأطفال في حياة بلازا
DESCRIPTION:to know about this event in English\, check here.\nاكتشفوا مهارات أطفالكم في التزيين واللعب والرسم في حياة بلازا. \nالتاريخ: من الخميس إلى السبت حتى 17 أغسطس 2024 \nالمواعيد: من 4 عصرًا إلى 11 مساءً \nالدخول: التسجيل مطلوب. \nالمكان: الوعب
URL:https://974qa.net/ar/event/%d9%88%d8%b1%d8%b4%d8%a9-%d8%a7%d9%84%d9%81%d9%86-%d9%84%d9%84%d8%a3%d8%b7%d9%81%d8%a7%d9%84-%d9%81%d9%8a-%d8%ad%d9%8a%d8%a7%d8%a9-%d8%a8%d9%84%d8%a7%d8%b2%d8%a7
LOCATION:حياة بلازا\, شارع الوعب\, الدوحة\, Qatar
CATEGORIES:فنون وثقافة
ATTACH;FMTTYPE=image/webp:https://974qa.net/ar/wp-content/uploads/sites/3/2024/07/art-factory-kids-event-hyatt-plaza-qatar.webp
END:VEVENT
BEGIN:VEVENT
DTSTART;TZID=Asia/Qatar:20240723T160000
DTEND;TZID=Asia/Qatar:20240803T210000
DTSTAMP:20260422T051516
CREATED:20240721T191214Z
LAST-MODIFIED:20240721T191507Z
UID:3185-1721750400-1722718800@974qa.net
SUMMARY:معرض سوق واقف للرطب المحلي التاسع
DESCRIPTION:ضع تذكيراً في تقويمك لمعرض الرطب المحلي التاسع في سوق واقف الذي سيعرض التمور والمنتجات المزروعة والمصنوعة محليًا. \nالتاريخ: 23 يوليو – 3 أغسطس \nالمواعيد: من 4 عصرًا إلى 9 مساءً \nالدخول: مجاني. \nالمكان: الساحة الشرقية بسوق واقف
URL:https://974qa.net/ar/event/%d9%85%d8%b9%d8%b1%d8%b6-%d8%b3%d9%88%d9%82-%d9%88%d8%a7%d9%82%d9%81-%d9%84%d9%84%d8%b1%d8%b7%d8%a8-%d8%a7%d9%84%d9%85%d8%ad%d9%84%d9%8a-%d8%a7%d9%84%d8%aa%d8%a7%d8%b3%d8%b9
LOCATION:سوق واقف\, سوق واقف\, الدوحة\, Qatar
CATEGORIES:تسوق
ATTACH;FMTTYPE=image/webp:https://974qa.net/ar/wp-content/uploads/sites/3/2024/07/Souq-Waqif-Dates-Exhibition-Local-Dates-Qatar.webp
END:VEVENT
BEGIN:VEVENT
DTSTART;TZID=Asia/Qatar:20240814T180000
DTEND;TZID=Asia/Qatar:20240814T220000
DTSTAMP:20260422T051516
CREATED:20240808T102221Z
LAST-MODIFIED:20240808T103317Z
UID:3553-1723658400-1723672800@974qa.net
SUMMARY:أمسية السيدات في استاد المدينة التعليمية
DESCRIPTION:To check this event in English\, press here.\nانضمي إلى أمسية السيدات المفعمة بالحيوية والنشاط في استاد المدينة التعليمية! يوفر هذا الحدث المُعد خصيصًا للسيدات والفتيات فرصة فريدة للمشاركة في أنشطة رياضية وبرامج لياقة بدنية متنوعة تعزز الصحة والعافية وأسلوب الحياة النشط. \nالتاريخ: 14 أغسطس 2024. \nالتوقيت: من 6 مساء إلى 10 مساءً. \nالدخول: مجاني للنساء والفتيات من عمر 8 سنوات (يمنع دخول الصبية). \nالمكان: استاد المدينة التعليمية (الدخول من البوابة 35).
URL:https://974qa.net/ar/event/%d8%a3%d9%85%d8%b3%d9%8a%d8%a9-%d8%a7%d9%84%d8%b3%d9%8a%d8%af%d8%a7%d8%aa-%d9%81%d9%8a-%d8%a7%d8%b3%d8%aa%d8%a7%d8%af-%d8%a7%d9%84%d9%85%d8%af%d9%8a%d9%86%d8%a9-%d8%a7%d9%84%d8%aa%d8%b9%d9%84%d9%8a
LOCATION:استاد المدينة التعليمية\, المدينة التعليمية\, الدوحة\, Qatar
CATEGORIES:رياضة
ATTACH;FMTTYPE=image/webp:https://974qa.net/ar/wp-content/uploads/sites/3/2024/08/ladies-night-education-city-stadium-qatar.webp
ORGANIZER;CN="%D9%85%D8%A4%D8%B3%D8%B3%D8%A9 %D9%82%D8%B7%D8%B1":MAILTO:info@qf.org.qa
END:VEVENT
BEGIN:VEVENT
DTSTART;TZID=Asia/Qatar:20240815T100000
DTEND;TZID=Asia/Qatar:20241005T220000
DTSTAMP:20260422T051516
CREATED:20240924T101104Z
LAST-MODIFIED:20240924T101314Z
UID:4446-1723716000-1728165600@974qa.net
SUMMARY:الذهب فالكم في قطر مول
DESCRIPTION:to check this event in English\, press here.\nموسم الذهب في قطر مول وهذه هي فرصتك لربح ما يصل إلى 4 كيلوغرامات من الذهب الخالص. \nتسوق بقيمة 200 ريال قطري في أي من متاجرك المفضلة وادخل السحب الذي سيقام كل أسبوعين وكن واحدا من 40 فائزا محظوظا للعودة إلى المنزل مع الذهب الخالص! \nالتاريخ: حتى 5 أكتوبر 2024 (يجري السحب في 6 أكتوبر 2024). \nالتوقيت: (توقيت عمل المول) من الأحد إلى الأربعاء: 10:00 صباحًا إلى 10:00 مساء. \nالخميس والجمعة: 10:00 صباحًا إلى 12 منتصف الليل. \nالسبت: 10:00 صباحًا إلى 11 مساء. \nالاشتراك: للمشاركة في السحب يجب الشراء بقيمة 200 ريال قطري أو أكثر من قطر مول. \nالمكان: قطر مول
URL:https://974qa.net/ar/event/%d8%a7%d9%84%d8%b0%d9%87%d8%a8-%d9%81%d8%a7%d9%84%d9%83%d9%85
LOCATION:قطر مول\, فيلا 25، شارع 605، منطقة 51، الغرافة، تقاطع الجهنية، شارع 373\, الريان\, Qatar
CATEGORIES:تسوق
ATTACH;FMTTYPE=image/jpeg:https://974qa.net/ar/wp-content/uploads/sites/3/2024/09/ARPost-GoldLuck-1.jpg
END:VEVENT
BEGIN:VEVENT
DTSTART;TZID=Asia/Qatar:20240827T100000
DTEND;TZID=Asia/Qatar:20240907T220000
DTSTAMP:20260422T051516
CREATED:20240729T111930Z
LAST-MODIFIED:20240804T125715Z
UID:3395-1724752800-1725746400@974qa.net
SUMMARY:معرض لوازم للتسوق العائلي
DESCRIPTION:To check this event in English\, press here.\nمعرض تجاري يشمل العديد من المنتجات المتنوعة من دول مختلفة مثل الملابس النسائية والرجالية وملابس الأطفال. كما يشمل العديد من دور الأزياء من العبايات والجلابيات والإكسسوارات، بالإضافة إلى العطور والأدوات والمستلزمات المنزلية والمواد الغذائية. \nالتاريخ: 27 أغسطس – 7 سبتمبر 2024 \nالمواعيد: يومياً من 10 صباحاً – 10 مساءً، الجمعة من 2 ظهراً – 11 مساءً \nالدخول: مجاناً. \nالمكان: مركز الدوحة للمعارض والمؤتمرات \nللتواصل: 30057070 – 55315250
URL:https://974qa.net/ar/event/%d9%85%d8%b9%d8%b1%d8%b6-%d9%84%d9%88%d8%a7%d8%b2%d9%85-%d9%84%d9%84%d8%aa%d8%b3%d9%88%d9%82-%d8%a7%d9%84%d8%b9%d8%a7%d8%a6%d9%84%d9%8a
CATEGORIES:تسوق,مؤتمرات ومعارض
ATTACH;FMTTYPE=image/webp:https://974qa.net/ar/wp-content/uploads/sites/3/2024/07/LAWAZIM-TRADE-FAIR-2024-DECC-QATAR.webp
END:VEVENT
END:VCALENDAR