BEGIN:VCALENDAR
VERSION:2.0
PRODID:-//974 - ECPv6.2.9//NONSGML v1.0//EN
CALSCALE:GREGORIAN
METHOD:PUBLISH
X-WR-CALNAME:974
X-ORIGINAL-URL:https://974qa.net/ar
X-WR-CALDESC:Events for 974
REFRESH-INTERVAL;VALUE=DURATION:PT1H
X-Robots-Tag:noindex
X-PUBLISHED-TTL:PT1H
BEGIN:VTIMEZONE
TZID:Asia/Qatar
BEGIN:STANDARD
TZOFFSETFROM:+0300
TZOFFSETTO:+0300
TZNAME:+03
DTSTART:20240101T000000
END:STANDARD
TZID:Europe/Moscow
BEGIN:STANDARD
TZOFFSETFROM:+0300
TZOFFSETTO:+0300
TZNAME:MSK
DTSTART:20240101T000000
END:STANDARD
END:VTIMEZONE
BEGIN:VEVENT
DTSTART;TZID=Asia/Qatar:20240815T100000
DTEND;TZID=Asia/Qatar:20241005T220000
DTSTAMP:20260426T030744
CREATED:20240924T101104Z
LAST-MODIFIED:20240924T101314Z
UID:4446-1723716000-1728165600@974qa.net
SUMMARY:الذهب فالكم في قطر مول
DESCRIPTION:to check this event in English\, press here.\nموسم الذهب في قطر مول وهذه هي فرصتك لربح ما يصل إلى 4 كيلوغرامات من الذهب الخالص. \nتسوق بقيمة 200 ريال قطري في أي من متاجرك المفضلة وادخل السحب الذي سيقام كل أسبوعين وكن واحدا من 40 فائزا محظوظا للعودة إلى المنزل مع الذهب الخالص! \nالتاريخ: حتى 5 أكتوبر 2024 (يجري السحب في 6 أكتوبر 2024). \nالتوقيت: (توقيت عمل المول) من الأحد إلى الأربعاء: 10:00 صباحًا إلى 10:00 مساء. \nالخميس والجمعة: 10:00 صباحًا إلى 12 منتصف الليل. \nالسبت: 10:00 صباحًا إلى 11 مساء. \nالاشتراك: للمشاركة في السحب يجب الشراء بقيمة 200 ريال قطري أو أكثر من قطر مول. \nالمكان: قطر مول
URL:https://974qa.net/ar/event/%d8%a7%d9%84%d8%b0%d9%87%d8%a8-%d9%81%d8%a7%d9%84%d9%83%d9%85
LOCATION:قطر مول\, فيلا 25، شارع 605، منطقة 51، الغرافة، تقاطع الجهنية، شارع 373\, الريان\, Qatar
CATEGORIES:تسوق
ATTACH;FMTTYPE=image/jpeg:https://974qa.net/ar/wp-content/uploads/sites/3/2024/09/ARPost-GoldLuck-1.jpg
END:VEVENT
BEGIN:VEVENT
DTSTART;TZID=Asia/Qatar:20240827T100000
DTEND;TZID=Asia/Qatar:20240907T220000
DTSTAMP:20260426T030744
CREATED:20240729T111930Z
LAST-MODIFIED:20240804T125715Z
UID:3395-1724752800-1725746400@974qa.net
SUMMARY:معرض لوازم للتسوق العائلي
DESCRIPTION:To check this event in English\, press here.\nمعرض تجاري يشمل العديد من المنتجات المتنوعة من دول مختلفة مثل الملابس النسائية والرجالية وملابس الأطفال. كما يشمل العديد من دور الأزياء من العبايات والجلابيات والإكسسوارات، بالإضافة إلى العطور والأدوات والمستلزمات المنزلية والمواد الغذائية. \nالتاريخ: 27 أغسطس – 7 سبتمبر 2024 \nالمواعيد: يومياً من 10 صباحاً – 10 مساءً، الجمعة من 2 ظهراً – 11 مساءً \nالدخول: مجاناً. \nالمكان: مركز الدوحة للمعارض والمؤتمرات \nللتواصل: 30057070 – 55315250
URL:https://974qa.net/ar/event/%d9%85%d8%b9%d8%b1%d8%b6-%d9%84%d9%88%d8%a7%d8%b2%d9%85-%d9%84%d9%84%d8%aa%d8%b3%d9%88%d9%82-%d8%a7%d9%84%d8%b9%d8%a7%d8%a6%d9%84%d9%8a
CATEGORIES:تسوق,مؤتمرات ومعارض
ATTACH;FMTTYPE=image/webp:https://974qa.net/ar/wp-content/uploads/sites/3/2024/07/LAWAZIM-TRADE-FAIR-2024-DECC-QATAR.webp
END:VEVENT
BEGIN:VEVENT
DTSTART;TZID=Asia/Qatar:20240915T160000
DTEND;TZID=Asia/Qatar:20240915T200000
DTSTAMP:20260426T030744
CREATED:20240912T114359Z
LAST-MODIFIED:20240912T114431Z
UID:4156-1726416000-1726430400@974qa.net
SUMMARY:دوحة فستيفال سيتي تستضيف فعاليات للأزياء والأعمال الإبداعية
DESCRIPTION:To check this event in English\, press here.\nتستعد دوحة فستيفال سيتي لاستضافة باقة من فعاليات الأزياء والأعمال الإبداعية من سبتمبر إلى نوفمبر 2024. \n15 سبتمبر في الساعة 5:00 مساءً مع معرض مذهب من قبل طلاب كلية فنون التصميم في جامعة فرجينيا كومنولث في ردهة الأزياء الفاخرة. \nتفاعل مع المصممين الناشئين أثناء عرض أعمالهم الإبداعية. \nمبادرة الشخصيات الصاعدة في 15 سبتمبر من 4:00 مساءً إلى 5:00 مساء. انضم إلى نور عريضة التي ظهرت 14 مرة على غلاف مجلة هاربرز بازار قطر والشخصية المؤثرة في الشرق الأوسط لجلسة نقاشية عميقة تستضيفها هاربرز بازار آرابيا. \nالتاريخ: 15 سبتمبر 2024 \nالتوقيت: من الساعة 4:00 مساء. \nالدخول: مجاني. \nالمكان: ردهة الأزياء الفاخرة، دوحة فستيفال سيتي \nالإنستغرام: @dohafestcity
URL:https://974qa.net/ar/event/%d8%af%d9%88%d8%ad%d8%a9-%d9%81%d8%b3%d8%aa%d9%8a%d9%81%d8%a7%d9%84-%d8%b3%d9%8a%d8%aa%d9%8a-%d8%aa%d8%b3%d8%aa%d8%b6%d9%8a%d9%81-%d9%81%d8%b9%d8%a7%d9%84%d9%8a%d8%a7%d8%aa-%d9%84%d9%84%d8%a3%d8%b2
LOCATION:دوحة فستيفال سيتي\, أم صلال\, الدوحة\, Qatar
CATEGORIES:فنون وثقافة
ATTACH;FMTTYPE=image/webp:https://974qa.net/ar/wp-content/uploads/sites/3/2024/09/Doha-festival-City-Fashion-Creativity-Activations-Events-Qatar.webp
END:VEVENT
BEGIN:VEVENT
DTSTART;TZID=Europe/Moscow:20240916T100000
DTEND;TZID=Europe/Moscow:20240918T200000
DTSTAMP:20260426T030744
CREATED:20240617T104908Z
LAST-MODIFIED:20240714T062237Z
UID:2260-1726480800-1726689600@974qa.net
SUMMARY:معرض كونتيكيو 2024
DESCRIPTION:To check this event in English\, press here.\nمعرض كونتيكيو 2024، هو أول حدث من نوعه يوفر فرصة لا مثيل لها لعرض أحدث الأبحاث والاكتشافات المبتكرة التي تقود التحسينات التحويلية في العديد من المجالات. انقر هنا لحجز جناحك. \nالتاريخ:من 16 إلى 18 سبتمبر 2024\n \nالتوقيت:من 10 صباحاً إلى 8 مساءً\n \nالدخول: مجاني مع التسجيل.\n \nالمكان: مركز قطر الوطني للمؤتمرات. (القاعات من 5 إلى 9)\n \nإنستغرام: @conteqexpo24 \nويهدف هذا المعرض إلى تقديم حلول متطورة تعمل على تحسين الإنتاجية والجودة والموثوقية وتوفير التكاليف وتقليل النفايات ورفع كفاءة الطاقة في قطاعي البناء والخدمات.
URL:https://974qa.net/ar/event/%d9%85%d8%b9%d8%b1%d8%b6-%d9%83%d9%88%d9%86%d8%aa%d9%8a%d9%83%d9%8a%d9%88-2024
LOCATION:مركز قطر الوطني للمؤتمرات\, قطر، الريان\, Qatar
ATTACH;FMTTYPE=image/webp:https://974qa.net/ar/wp-content/uploads/sites/3/2024/06/ConteQExpo24-QNCC-Qatar-e1717590153563.webp
END:VEVENT
BEGIN:VEVENT
DTSTART;TZID=Asia/Qatar:20240916T100000
DTEND;TZID=Asia/Qatar:20240918T210000
DTSTAMP:20260426T030744
CREATED:20240916T150957Z
LAST-MODIFIED:20240916T150957Z
UID:4258-1726480800-1726693200@974qa.net
SUMMARY:كونتيك إكسبو 2024
DESCRIPTION:to know about this event in English\, check here.\nمعرض كونتيك إكسبو 2024 هو حدث فريد من نوعه يوفر فرصة لا مثيل لها لعرض أحدث الأبحاث والابتكارات التي تسبب تطويرات جذرية في عديد من المجالات. يهدف المعرض إلى تقديم حلول متطورة تعزز الإنتاجية والجودة والموثوقية وتخفف من التكاليف وتقلل الهدر وترفع من كفاءة استخدام الطاقة في قطاعات البناء والخدمات. \nالتاريخ: من 16 إلى 18 سبتمبر 2024. \nالتوقيت: من 10:00 صباحاً. \nالدخول: مجاني، بعد التسجيل. \nالمكان: مركز قطر الوطني للمؤتمرات، القاعة 9. \nالإنستغرام: @conteqexpo24
URL:https://974qa.net/ar/event/%d9%83%d9%88%d9%86%d8%aa%d9%8a%d9%83-%d8%a5%d9%83%d8%b3%d8%a8%d9%88-2024
LOCATION:مركز قطر الوطني للمؤتمرات\, قطر، الريان\, Qatar
CATEGORIES:مؤتمرات ومعارض
ATTACH;FMTTYPE=image/webp:https://974qa.net/ar/wp-content/uploads/sites/3/2024/09/conteq-expo-24-qatar-1.webp
END:VEVENT
BEGIN:VEVENT
DTSTART;TZID=Asia/Qatar:20240923T100000
DTEND;TZID=Asia/Qatar:20241008T220000
DTSTAMP:20260426T030744
CREATED:20240922T153519Z
LAST-MODIFIED:20240922T153519Z
UID:4432-1727085600-1728424800@974qa.net
SUMMARY:معرض التسوق 2024
DESCRIPTION:to check this even in English\, press here. \nيضم معرض التسوق العائلي بازارًا يضم مجموعة متنوعة من منتجات الأزياء والعطور ومنتجات الأغذية من مختلف البلدان. \nالتاريخ: من 23 سبتمبر 2024 إلى 8 أكتوبر 2024. \nالتوقيت: من 10:00 صباحًا إلى 10:00 مساء (يوميًا) \nومن 2:00 ظهرًا إلى 11:00 مساء (الجمعة). \nالدخول: مجانًا \nالمكان: مركز الدوحة للمعارض والمؤتمرات.
URL:https://974qa.net/ar/event/%d9%85%d8%b9%d8%b1%d8%b6-%d8%a7%d9%84%d8%aa%d8%b3%d9%88%d9%82-2024
LOCATION:مركز الدوحة للمعارض والمؤتمرات\, مركز الدوحة للمعارض والمؤتمرات، ويست باي\, الدوحة\, Qatar
CATEGORIES:تسوق
ATTACH;FMTTYPE=image/webp:https://974qa.net/ar/wp-content/uploads/sites/3/2024/09/Shopping-Fair-2024-DECC-Qatar.webp
END:VEVENT
BEGIN:VEVENT
DTSTART;TZID=Asia/Qatar:20240926T200000
DTEND;TZID=Asia/Qatar:20240926T233000
DTSTAMP:20260426T030744
CREATED:20240922T152845Z
LAST-MODIFIED:20240922T152845Z
UID:4433-1727380800-1727393400@974qa.net
SUMMARY:حفلة الفنان آدم
DESCRIPTION:to check this even in English\, press here. \nاستمتع بمزيج فريد من المشاعر والموسيقى مع الفنان آدم في الدوحة على مسرح المياسة – ليلة طريق الحب. \nالتاريخ: الخميس 26 سبتمبر 2024 \nالتوقيت: من 8:15 مساء إلى 12 منتصف الليل. (تُفتح الأبواب في 7:30 مساء) \nالدخول: عبر تذاكر. \nالمكان: مركز قطر الوطني للمؤتمرات.
URL:https://974qa.net/ar/event/%d8%ad%d9%81%d9%84%d8%a9-%d8%a7%d9%84%d9%81%d9%86%d8%a7%d9%86-%d8%a2%d8%af%d9%85
LOCATION:مركز قطر الوطني للمؤتمرات\, قطر، الريان\, Qatar
CATEGORIES:موسيقا
ATTACH;FMTTYPE=image/webp:https://974qa.net/ar/wp-content/uploads/sites/3/2024/09/Adam-Concert-Doha-Qatar-2024-1.webp
END:VEVENT
BEGIN:VEVENT
DTSTART;TZID=Asia/Qatar:20240930T080000
DTEND;TZID=Asia/Qatar:20241005T170000
DTSTAMP:20260426T030744
CREATED:20240922T152301Z
LAST-MODIFIED:20240922T152301Z
UID:4431-1727683200-1728147600@974qa.net
SUMMARY:بطولة كيوتيرمينلز قطر كلاسيك 2024
DESCRIPTION:to check this even in English\, press here. \nبطولة اسكواش حماسية ينظمها الاتحاد القطري للاسكواش على ملاعب مجمع خليفة الدولي للتنس والاسكواش. \nالتاريخ: من 30 سبتمبر 2024 إلى 5 أكتوبر 2024. \nالتوقيت: من 8 صباحًا. \nالدخول: عبر تذاكر \nالمكان: مجمع خليفة الدولي للتنس والاسكواش.
URL:https://974qa.net/ar/event/%d8%a8%d8%b7%d9%88%d9%84%d8%a9-%d9%83%d9%8a%d9%88%d8%aa%d9%8a%d8%b1%d9%85%d9%8a%d9%86%d9%84%d8%b2-%d9%82%d8%b7%d8%b1-%d9%83%d9%84%d8%a7%d8%b3%d9%8a%d9%83-2024
LOCATION:مجمع خليفة الدولي للتنس والاسكواش\, شارع مجل التعاون\, الدوحة\, Qatar
CATEGORIES:رياضة
ATTACH;FMTTYPE=image/webp:https://974qa.net/ar/wp-content/uploads/sites/3/2024/09/QTerminals-Qatar-Classic-Squash-Tournament-Qatar.webp
END:VEVENT
END:VCALENDAR