BEGIN:VCALENDAR
VERSION:2.0
PRODID:-//974 - ECPv6.2.9//NONSGML v1.0//EN
CALSCALE:GREGORIAN
METHOD:PUBLISH
X-ORIGINAL-URL:https://974qa.net/ar
X-WR-CALDESC:Events for 974
REFRESH-INTERVAL;VALUE=DURATION:PT1H
X-Robots-Tag:noindex
X-PUBLISHED-TTL:PT1H
BEGIN:VTIMEZONE
TZID:UTC
BEGIN:STANDARD
TZOFFSETFROM:+0000
TZOFFSETTO:+0000
TZNAME:UTC
DTSTART:20240101T000000
END:STANDARD
TZID:Asia/Qatar
BEGIN:STANDARD
TZOFFSETFROM:+0300
TZOFFSETTO:+0300
TZNAME:+03
DTSTART:20250101T000000
END:STANDARD
END:VTIMEZONE
BEGIN:VEVENT
DTSTART;TZID=UTC:20241129T080000
DTEND;TZID=UTC:20250527T170000
DTSTAMP:20260422T192525
CREATED:20240605T070843Z
LAST-MODIFIED:20240627T103332Z
UID:2222-1732867200-1748365200@974qa.net
SUMMARY:جائزة قطر الكبرى 2024 في الفورمولا 1 برعاية الخطوط الجوية القطرية
DESCRIPTION:شاهد نجوم الفورمولا 1 المفضلين لديك وهم يتنافسون على منصة التتويج في حلبة لوسيل الدولية المذهلة. \nالتاريخ: من 29 نوفمبر إلى 1 ديسمبر 2024. \nالدخول: بواسطة التذاكر، يرجى زيارة tickets.lcsc.qa لشرائها.\n \nالمكان: حلبة لوسيل الدولية.\n \nيعود سباق الجائزة الكبرى للخطوط الجوية القطرية للفورمولا 1 إلى حلبة لوسيل الدولية! استعد لعيش عطلة نهاية أسبوع مبهجة بينما تشاهد أفضل السائقين في العالم يتنافسون حول حلبة قطر الشهيرة. ستتعزز الإثارة على المسار بالموسيقى الحية والترفيه وكل أنواع  الضيافة لتبقى مستمتعًا طوال العطلة.
URL:https://974qa.net/ar/event/%d8%ac%d8%a7%d8%a6%d8%b2%d8%a9-%d9%82%d8%b7%d8%b1-%d8%a7%d9%84%d9%83%d8%a8%d8%b1%d9%89-2024-%d9%81%d9%8a-%d8%a7%d9%84%d9%81%d9%88%d8%b1%d9%85%d9%88%d9%84%d8%a7-1-%d8%a8%d8%b1%d8%b9%d8%a7%d9%8a%d8%a9
LOCATION:حلبة لوسيل الدولية\, Al Wusail\, North Relief Road\, Lusail\, Doha\, Qatar
CATEGORIES:ترفيه,رياضة
ATTACH;FMTTYPE=image/webp:https://974qa.net/ar/wp-content/uploads/sites/3/2024/06/Formula-1-Qatar-Airways-Qatar-Grand-Prix-2024-tickets-watch-Lusail-Circuit-Qatar-GP-2024.webp
END:VEVENT
BEGIN:VEVENT
DTSTART;TZID=Asia/Qatar:20250101T100000
DTEND;TZID=Asia/Qatar:20250403T220000
DTSTAMP:20260422T192525
CREATED:20250108T122415Z
LAST-MODIFIED:20250108T122415Z
UID:5816-1735725600-1743717600@974qa.net
SUMMARY:أجواء مشيرب - فعاليات وأنشطة
DESCRIPTION:To check this event in English\, press here.\nتستضيف مشيرب مجموعة متنوعة من الأنشطة للجميع، من العروض الفنية والثقافية إلى التجارب التفاعلية الترفيهية. \nمناطق اللعب في مشيرب\nاستمتع بهياكل اللعب المنبثقة المستوحاة من الهندسة المعمارية الأيقونية في مشيرب. \nالتاريخ: حتى 31 يناير 2025 \nالمكان: أمام مسجد الوادي، وشارع الكهرباء، وسكة وادي مشيرب. \nمال لوَّل\nاستكشف تاريخ ألعاب الفيديو من خلال عدسة جامعي الأجهزة والمنصات المحليين. \nالتاريخ: حتى 10 أبريل 2025 \nالمكان: ساحة النخيل \nالمنطقة الثقافية\nاستمتع بأجواء الشتاء المستوحاة من الثقافة القطرية. \nالتاريخ: حتى 31 يناير 2025 \nالمكان: متاحف مشيرب – بيت الشركة \nمنطقة الحلوى\nاكتشف جانبك المرح في عالم سحري من الحلوى مع أنشطة متنوعة. \nالتاريخ: حتى 1 فبراير 2025 \nالمكان: ساحة النخيل \nحفل موسيقي في براحة\nبالتعاون مع أوركسترا قطر الفيلهارمونية لتقديم عروض مذهلة. \nالتاريخ: 14 و15 و18 و19 فبراير 2025 \nالمكان: براحة مشيرب
URL:https://974qa.net/ar/event/%d8%a3%d8%ac%d9%88%d8%a7%d8%a1-%d9%85%d8%b4%d9%8a%d8%b1%d8%a8-%d9%81%d8%b9%d8%a7%d9%84%d9%8a%d8%a7%d8%aa-%d9%88%d8%a3%d9%86%d8%b4%d8%b7%d8%a9
LOCATION:مشيرب قلب الدوحة\, الدوحة\, Qatar
CATEGORIES:ترفيه
ATTACH;FMTTYPE=image/webp:https://974qa.net/ar/wp-content/uploads/sites/3/2025/01/Msheireb-Events-Activities-Doha-Qatar-2025.webp
END:VEVENT
BEGIN:VEVENT
DTSTART;TZID=Asia/Qatar:20250130T120000
DTEND;TZID=Asia/Qatar:20250205T203000
DTSTAMP:20260422T192525
CREATED:20250130T091343Z
LAST-MODIFIED:20250130T091343Z
UID:6100-1738238400-1738787400@974qa.net
SUMMARY:معرض الدوحة للمجوهرات والساعات 2025
DESCRIPTION:To check this event in English\, press here.\nاحتفال بالفخامة والحرفية – يعود معرض الدوحة للمجوهرات والساعات في نسخته الـ21، ليجمع بين رواد الصناعة العالميين والمصممين القطريين الصاعدين. \nالتاريخ: 30 يناير – 5 فبراير 2025 \nالتوقيت: سيتم الإعلان عنه. \nالدخول: مجاني. سجل هنا. \nالمكان: مركز الدوحة للمعارض والمؤتمرات \nالإنستغرام: @djwe.qa \nالموقع الإلكتروني: djwe.com
URL:https://974qa.net/ar/event/%d9%85%d8%b9%d8%b1%d8%b6-%d8%a7%d9%84%d8%af%d9%88%d8%ad%d8%a9-%d9%84%d9%84%d9%85%d8%ac%d9%88%d9%87%d8%b1%d8%a7%d8%aa-%d9%88%d8%a7%d9%84%d8%b3%d8%a7%d8%b9%d8%a7%d8%aa-2025
LOCATION:مركز الدوحة للمعارض والمؤتمرات\, مركز الدوحة للمعارض والمؤتمرات، ويست باي\, الدوحة\, Qatar
CATEGORIES:مؤتمرات ومعارض
ATTACH;FMTTYPE=image/webp:https://974qa.net/ar/wp-content/uploads/sites/3/2025/01/DJWE_DOHA_JEWELERY_EXHIBITION_QATAR_2024-2-1.webp
END:VEVENT
BEGIN:VEVENT
DTSTART;TZID=Asia/Qatar:20250207T193000
DTEND;TZID=Asia/Qatar:20250207T223000
DTSTAMP:20260422T192525
CREATED:20250130T095029Z
LAST-MODIFIED:20250130T095029Z
UID:6097-1738956600-1738967400@974qa.net
SUMMARY:جولة لم الشمل الختامية لفرقة ريفرمايا في الدوحة
DESCRIPTION:To check this event in English\, press here.\nتجمع جولة لم الشمل الختامية لفرقة RIVERMAYA الأساطير بامبو، ريكو بلانكو، ينج، مارك إسكويتا، وناثان أزاركون لحضور حفل لا يُنسى. \nالتاريخ: 7 فبراير 2025 \nالتوقيت: بدءًا من الساعة 7:30 مساءً، تفتح الأبواب الساعة 5 مساءً \nالدخول: بتذاكر \nالمكان: مركز قطر الوطني للمؤتمرات (القاعتان 8 و9)
URL:https://974qa.net/ar/event/%d8%ac%d9%88%d9%84%d8%a9-%d9%84%d9%85-%d8%a7%d9%84%d8%b4%d9%85%d9%84-%d8%a7%d9%84%d8%ae%d8%aa%d8%a7%d9%85%d9%8a%d8%a9-%d9%84%d9%81%d8%b1%d9%82%d8%a9-%d8%b1%d9%8a%d9%81%d8%b1%d9%85%d8%a7%d9%8a%d8%a7
LOCATION:مركز قطر الوطني للمؤتمرات\, قطر، الريان\, Qatar
CATEGORIES:موسيقا
ATTACH;FMTTYPE=image/webp:https://974qa.net/ar/wp-content/uploads/sites/3/2025/01/RIVERMAYA-Qatar-tickets-qncc-doha.webp
END:VEVENT
BEGIN:VEVENT
DTSTART;TZID=Asia/Qatar:20250211T070000
DTEND;TZID=Asia/Qatar:20250211T210000
DTSTAMP:20260422T192525
CREATED:20250205T145325Z
LAST-MODIFIED:20250205T145325Z
UID:6160-1739257200-1739307600@974qa.net
SUMMARY:سلسلة فعاليات اليوم الرياضي للدولة 2025
DESCRIPTION:To check this event in English\, press here.\nستستضيف المدينة التعليمية سلسلة فعاليات اليوم الرياضي للدولة 2025 والذي سيتضمن سباقين مثيرين. \nالسباق الأول: سباق المدينة التعليمية\nالتاريخ: 11 فبراير 2025 \nالتوقيت: 7 صباحًا \nالدخول: اضغط هنا للتسجيل. \nالمكان: استاد المدينة التعليمية \nالسباق الثاني: سباق مسار الدراجات الجبلية في المدينة التعليمية\nالتاريخ: 11 فبراير 2025 \nالتوقيت: 6 مساءً \nالدخول: اضغط هنا للتسجيل. \nالمكان: مسار المدينة التعليمية للدراجات الجبلية
URL:https://974qa.net/ar/event/%d8%b3%d9%84%d8%b3%d9%84%d8%a9-%d9%81%d8%b9%d8%a7%d9%84%d9%8a%d8%a7%d8%aa-%d8%a7%d9%84%d9%8a%d9%88%d9%85-%d8%a7%d9%84%d8%b1%d9%8a%d8%a7%d8%b6%d9%8a-%d9%84%d9%84%d8%af%d9%88%d9%84%d8%a9-2025
LOCATION:استاد المدينة التعليمية\, المدينة التعليمية\, الدوحة\, Qatar
CATEGORIES:رياضة
ATTACH;FMTTYPE=image/webp:https://974qa.net/ar/wp-content/uploads/sites/3/2025/02/Education-City-Qatar-National-Sports-Day-2025-Run-Race.webp
END:VEVENT
BEGIN:VEVENT
DTSTART;TZID=Asia/Qatar:20250214T150000
DTEND;TZID=Asia/Qatar:20250215T210000
DTSTAMP:20260422T192525
CREATED:20250214T111000Z
LAST-MODIFIED:20250214T113406Z
UID:6273-1739545200-1739653200@974qa.net
SUMMARY:عرض الوهم
DESCRIPTION:to check this event in English\, press here.\nعرض خيالي مستمر لساعة كاملة مع تفاعل الجمهور، ويقدمه أحد المتأهلين للنهائيات في برنامج المواهب التركية! \nالتاريخ والتوقيت: الجمعة 14 فبراير: الساعة 3 و5 و7مساء. \nالسبت 15 فبراير: الساعة 4 و6 و8 مساء. \nالدخول: بتذاكر، تفضل بزيارة q-tickets.com للحصول على التذاكر. \nالمكان: مركز قطر الوطني للمؤتمرات
URL:https://974qa.net/ar/event/%d8%b9%d8%b1%d8%b6-%d8%ae%d9%8a%d8%a7%d9%84%d9%8a
LOCATION:مركز قطر الوطني للمؤتمرات\, قطر، الريان\, Qatar
CATEGORIES:ترفيه
ATTACH;FMTTYPE=image/webp:https://974qa.net/ar/wp-content/uploads/sites/3/2025/02/BANNER133827188052745929.webp
END:VEVENT
BEGIN:VEVENT
DTSTART;TZID=Asia/Qatar:20250214T200000
DTEND;TZID=Asia/Qatar:20250214T223000
DTSTAMP:20260422T192525
CREATED:20250130T093854Z
LAST-MODIFIED:20250130T093854Z
UID:6096-1739563200-1739572200@974qa.net
SUMMARY:مباراة لإحياء الأمل 2025
DESCRIPTION:To check this event in English\, press here.\nمباراة لإحياء الأمل 2025 تجمع بين فريق شنكز وآي شو سبيد ضد فريق كي إس آي وأبو فلة، تتضمن أسبوعاً كاملا مليئا بالأنشطة مع مشاركة المشجعين في الفعاليات ومسابقات رياضية للمبدعين وبودكاست مباشر وعرض موسيقي خاص بين شوطي المباراة وكل ذلك لدعم مؤسسة التعليم فوق الجميع. \nالتاريخ: 14 فبراير 2025 \nالتوقيت: الساعة 8 مساءً \nالدخول: بتذاكر \nالمكان: استاد 974
URL:https://974qa.net/ar/event/%d9%85%d8%a8%d8%a7%d8%b1%d8%a7%d8%a9-%d9%84%d8%a5%d8%ad%d9%8a%d8%a7%d8%a1-%d8%a7%d9%84%d8%a3%d9%85%d9%84-2025
LOCATION:استاد 974\, 7HQ8+G4\, الدوحة\, Qatar
CATEGORIES:رياضة
ATTACH;FMTTYPE=image/webp:https://974qa.net/ar/wp-content/uploads/sites/3/2025/01/Match-For-Hope-2025-Qatar-tickets-Ishowspeed-chunkz-KSI-Aboflah-Doha-1.webp
END:VEVENT
BEGIN:VEVENT
DTSTART;TZID=Asia/Qatar:20250217T143000
DTEND;TZID=Asia/Qatar:20250222T203000
DTSTAMP:20260422T192525
CREATED:20250208T091900Z
LAST-MODIFIED:20250208T091900Z
UID:6168-1739802600-1740256200@974qa.net
SUMMARY:بطولة قطر إكسون موبيل المفتوحة للتنس 2025
DESCRIPTION:To check this event in English\, press here.\nشاهد منافسات التنس من الطراز العالمي مع بطولة قطر إكسون موبيل المفتوحة 2025 التي تجلب أفضل لاعبي التنس المحترفين إلى الدوحة. \nالتاريخ: 17 – 22 فبراير 2025 \nالتوقيت: ابتداء من الساعة 2:30 ظهرًا \nالدخول: اضغط هنا للتسجيل \nالمكان: مجمع خليفة الدولي للتنس والإسكواش
URL:https://974qa.net/ar/event/%d8%a8%d8%b7%d9%88%d9%84%d8%a9-%d9%82%d8%b7%d8%b1-%d8%a5%d9%83%d8%b3%d9%88%d9%86-%d9%85%d9%88%d8%a8%d9%8a%d9%84-%d8%a7%d9%84%d9%85%d9%81%d8%aa%d9%88%d8%ad%d8%a9-%d9%84%d9%84%d8%aa%d9%86%d8%b3-2025
LOCATION:مجمع خليفة الدولي للتنس والاسكواش\, شارع مجل التعاون\, الدوحة\, Qatar
CATEGORIES:رياضة
ATTACH;FMTTYPE=image/webp:https://974qa.net/ar/wp-content/uploads/sites/3/2025/02/Djokovic-Qatar-Tennis-Qatar-ExxonMobil-Open-2025-ATP-Tour-Open.webp
END:VEVENT
BEGIN:VEVENT
DTSTART;TZID=Asia/Qatar:20250220T170000
DTEND;TZID=Asia/Qatar:20250220T213000
DTSTAMP:20260422T192525
CREATED:20250203T142613Z
LAST-MODIFIED:20250204T110912Z
UID:6141-1740070800-1740087000@974qa.net
SUMMARY:ONE 171: قطر
DESCRIPTION:To check this event in English\, press here.\nسيشهد نزال ONE 171: قطر في 20 فبراير 2025 دفاع جوناثان “الجنرال” هاغرتي يدافع عن لقبه في فئة وزن الديك للكيك بوكسينغ أمام وي روي. كما سيتواجه جوشوا “ذا باشن” باسيو وجاريد “ذا مونكي غاد” بروكس في النزال الثالث لتوحيد لقب بطولة ون لوزن القشة في الفنون القتالية المختلطة. \nالتاريخ: 20 فبراير 2025 \nالتوقيت: بدءًا من الساعة 5 مساءً \nالدخول: بتذاكر \nالمكان: صالة لوسيل الرياضية
URL:https://974qa.net/ar/event/one-171-%d9%82%d8%b7%d8%b1
LOCATION:صالة لوسيل الرياضية\, Qatar
CATEGORIES:رياضة
ATTACH;FMTTYPE=image/webp:https://974qa.net/ar/wp-content/uploads/sites/3/2025/02/One-171-Qatar-MMA-Sports-Event-Qatar.webp
END:VEVENT
BEGIN:VEVENT
DTSTART;TZID=Asia/Qatar:20250220T203000
DTEND;TZID=Asia/Qatar:20250220T230000
DTSTAMP:20260422T192525
CREATED:20250217T112312Z
LAST-MODIFIED:20250217T112312Z
UID:6311-1740083400-1740092400@974qa.net
SUMMARY:حفل الفنان ليونيل ريتشي في الدوحة
DESCRIPTION:To check this event in English\, press here.\nليونيل ريتشي، الفنان وكاتب الأغاني الأسطوري، قادم إلى قطر لأمسية موسيقية لا تُنسى! \nالتاريخ: الخميس، 20 فبراير 2025 \nالتوقيت: من 8:30 إلى 11:30 مساء (تُفتح البوابات في 7:00 مساء) \nالدخول: بتذاكر تبدأ أسعارها من 175 ريال قطري \nالمكان: نادي الدوحة للجولف
URL:https://974qa.net/ar/event/%d8%ad%d9%81%d9%84-%d8%a7%d9%84%d9%81%d9%86%d8%a7%d9%86-%d9%84%d9%8a%d9%88%d9%86%d9%8a%d9%84-%d8%b1%d9%8a%d8%aa%d8%b4%d9%8a-%d9%81%d9%8a-%d8%a7%d9%84%d8%af%d9%88%d8%ad%d8%a9
LOCATION:نادي الدوحة للجولف\, 13530\, الدوحة\, Qatar
CATEGORIES:موسيقا
ATTACH;FMTTYPE=image/webp:https://974qa.net/ar/wp-content/uploads/sites/3/2025/02/Social-1080x1080-1.webp
END:VEVENT
BEGIN:VEVENT
DTSTART;TZID=Asia/Qatar:20250221T120000
DTEND;TZID=Asia/Qatar:20250222T170000
DTSTAMP:20260422T192525
CREATED:20250214T105229Z
LAST-MODIFIED:20250214T110635Z
UID:6274-1740139200-1740243600@974qa.net
SUMMARY:بطولة Visit Qatar E1 GP الدوحة 2025
DESCRIPTION:To check this event in English\, press here.\nتجمع الجولة الثانية من بطولة العالم للاتحاد الدولي لقوارب المحركات المُقدمة من صندوق الاستثمارات العامة أحدث التقنيات والمنافسة عالية السرعة والأجواء الممتعة. \nالتاريخ: 21 و22 قبراير 2025 \nالتوقيت: 12 ظهرًأ \nالدخول: بتذاكر \nالمكان: جزيرة اللؤلؤة
URL:https://974qa.net/ar/event/%d8%a8%d8%b7%d9%88%d9%84%d8%a9-visit-qatar-e1-gp-%d8%a7%d9%84%d8%af%d9%88%d8%ad%d8%a9-2025
LOCATION:جزيرة اللؤلؤة\, Qatar
CATEGORIES:رياضة
ATTACH;FMTTYPE=image/jpeg:https://974qa.net/ar/wp-content/uploads/sites/3/2025/02/16x9.jpg
END:VEVENT
BEGIN:VEVENT
DTSTART;TZID=Asia/Qatar:20250221T150000
DTEND;TZID=Asia/Qatar:20250222T010000
DTSTAMP:20260422T192525
CREATED:20250219T134328Z
LAST-MODIFIED:20250219T134328Z
UID:6327-1740150000-1740186000@974qa.net
SUMMARY:مهرجان الموسيقى 25N 51E
DESCRIPTION:To check this event in English\, press here.\nيجمع مهرجان الموسيقى 25N 51E تييستو، بلاك كوفي، وغيرهم من الدي جي العالميين من منسقي الموسيقى في صحراء رأس بروق الخلابة لليلة حافلة بالإيقاعات الحماسية والترفيه المذهل. \nالتاريخ: الجمعة 21 فبراير 2021 \nالتوقيت: من 3 ظهرًا إلى 12 منتصف الليل \nالدخول: بتذاكر تبدأ أسعارها من 350 ريال قطري \nالمكان: رأس بروق (تتوافر حافلات للنقل من استاد أحمد بن علي)
URL:https://974qa.net/ar/event/%d9%85%d9%87%d8%b1%d8%ac%d8%a7%d9%86-%d8%a7%d9%84%d9%85%d9%88%d8%b3%d9%8a%d9%82%d9%89-25n-51e
CATEGORIES:موسيقا
ATTACH;FMTTYPE=image/webp:https://974qa.net/ar/wp-content/uploads/sites/3/2025/02/25N-51E-Music-Festival-Ras-Abrouq-Tiesto-Black-Coffee-DJ-2025-scaled-1.webp
END:VEVENT
BEGIN:VEVENT
DTSTART;TZID=Asia/Qatar:20250223T090000
DTEND;TZID=Asia/Qatar:20250226T180000
DTSTAMP:20260422T192525
CREATED:20250130T092949Z
LAST-MODIFIED:20250130T092949Z
UID:6095-1740301200-1740592800@974qa.net
SUMMARY:قمة الويب قطر 2025
DESCRIPTION:To check this event in English\, press here.\nتجمع قمة الويب قطر بين أبرز المتحدثين، وأكبر شركات التكنولوجيا، وأهم وسائل الإعلام. \nالتاريخ: 23-26 فبراير 2025 \nالدخول: بتذاكر \nالمكان: مركز الدوحة للمعارض والمؤتمرات
URL:https://974qa.net/ar/event/%d9%82%d9%85%d8%a9-%d8%a7%d9%84%d9%88%d9%8a%d8%a8-%d9%82%d8%b7%d8%b1-2025
LOCATION:مركز الدوحة للمعارض والمؤتمرات\, مركز الدوحة للمعارض والمؤتمرات، ويست باي\, الدوحة\, Qatar
CATEGORIES:مؤتمرات ومعارض
ATTACH;FMTTYPE=image/webp:https://974qa.net/ar/wp-content/uploads/sites/3/2025/01/Web-Summit-Qatar-DECC.webp
END:VEVENT
END:VCALENDAR