BEGIN:VCALENDAR
VERSION:2.0
PRODID:-//974 Qatar - ECPv6.2.9//NONSGML v1.0//EN
CALSCALE:GREGORIAN
METHOD:PUBLISH
X-ORIGINAL-URL:https://974qa.net
X-WR-CALDESC:Events for 974 Qatar
REFRESH-INTERVAL;VALUE=DURATION:PT1H
X-Robots-Tag:noindex
X-PUBLISHED-TTL:PT1H
BEGIN:VTIMEZONE
TZID:Europe/Moscow
BEGIN:STANDARD
TZOFFSETFROM:+0300
TZOFFSETTO:+0300
TZNAME:MSK
DTSTART:20240101T000000
END:STANDARD
END:VTIMEZONE
BEGIN:VEVENT
DTSTART;TZID=Europe/Moscow:20260121T160000
DTEND;TZID=Europe/Moscow:20260121T180000
DTSTAMP:20260420T042925
CREATED:20260120T110141Z
LAST-MODIFIED:20260120T132759Z
UID:14780-1769011200-1769018400@974qa.net
SUMMARY:2026 Science Café at Msheireb Museums
DESCRIPTION:لقراءة هذا المقال باللغة العربية اضغط هنا\nMsheireb Museums\, in collaboration with Sidra Medicine\, will host the first Science Café session of 2026 titled “Stem Cells in Precision Medicine: From Research to Reality”. The session will explore how stem cell research is advancing the understanding of disease\, supporting regenerative therapies\, and contributing to the development of personalised healthcare. Clinicians\, researchers\, and specialists from Sidra Medicine will present recent scientific developments and explain key concepts in clear and accessible terms. \nDate: 21 January 2026 \nTime: 4 PM – 6 PM \nAccess: Free to attend. \nLocation:  Bin Jelmood House\, Msheireb Museums
URL:https://974qa.net/event/2026-science-cafe-at-msheireb-museums/
LOCATION:Bin Jelmood House Courtyard – Msheireb Museums\, Doha\, Qatar
CATEGORIES:Education
ATTACH;FMTTYPE=image/png:https://974qa.net/wp-content/uploads/2026/01/Msheireb-Museums-Sidra-Medicine-Science-Cafe-2026-Stem-Cells-Precision-Medicine-Research-Doha-Qatar-1-1-e1768906981638.png
END:VEVENT
BEGIN:VEVENT
DTSTART;TZID=Europe/Moscow:20241124T090000
DTEND;TZID=Europe/Moscow:20241128T150000
DTSTAMP:20260420T042925
CREATED:20241118T101033Z
LAST-MODIFIED:20241118T112107Z
UID:10568-1732438800-1732806000@974qa.net
SUMMARY:QSTP AI Week 2024
DESCRIPTION:لقراءة هذا المقال باللغة العربية اضغط هنا\nQSTP AI Week 2024 marks a significant celebration of innovation\, coinciding with QSTP’s 15th anniversary. The event offers a comprehensive exploration of AI’s evolving landscape through insightful panels\, seminars\, and hands-on workshops. \nDate: November 24–28\, 2024 \nTimings: 9 AM to 3 PM daily \nAccess: Free to attend. Register here. \nLocation: Qatar Science and Technology Park
URL:https://974qa.net/event/qstp-ai-week-2024/
LOCATION:Qatar Science and Technology Park\, Al Luqta St\, Ar-Rayyan
CATEGORIES:Education
ATTACH;FMTTYPE=image/jpeg:https://974qa.net/wp-content/uploads/2024/11/QSTP-AI-Week-2024-Qatar-Science-Technology-Park-Education-City-Doha.jpg
END:VEVENT
BEGIN:VEVENT
DTSTART;TZID=Europe/Moscow:20240623T130000
DTEND;TZID=Europe/Moscow:20240729T180000
DTSTAMP:20260420T042925
CREATED:20240619T095027Z
LAST-MODIFIED:20240713T160830Z
UID:6665-1719147600-1722276000@974qa.net
SUMMARY:Summer Camp for Children at Qatar National Library
DESCRIPTION:لقراءة هذا المقال باللغة العربية اضغط هنا\nThe Qatar National Library will host its fifth Summer Camp for Children offering many exciting activities. \nDate: June 23 – August 29\, 2024 \nAccess: Click here to register \nLocation: Qatar National Library \nQNL’s fifth Summer Camp for Children offers a variety of exciting activities\, including STEM sessions\, creative workshops\, storytimes\, book clubs\, and educational programs about the Prophets of Allah. The camp runs from June 23 to August 29\, 2024. \nClick here to learn more and register. \n 
URL:https://974qa.net/event/summer-camp-for-children-at-qatar-national-library/
LOCATION:Qatar National Library\, District of Freedom\, Education City\, Al Luqta St\, Doha\, Education City\, Qatar
CATEGORIES:Education
ATTACH;FMTTYPE=image/jpeg:https://974qa.net/wp-content/uploads/2024/06/QATAR_National_Library_Summer_Camp_for_kids_2024.jpg
END:VEVENT
BEGIN:VEVENT
DTSTART;TZID=Europe/Moscow:20240616T073000
DTEND;TZID=Europe/Moscow:20240830T180000
DTSTAMP:20260420T042925
CREATED:20240622T152055Z
LAST-MODIFIED:20240713T141049Z
UID:7136-1718523000-1725040800@974qa.net
SUMMARY:2024 Summer Camps in Qatar
DESCRIPTION:لقراءة هذا المقال باللغة العربية اضغط هنا \nExplore the diverse offerings of some 2024 Summer Camps in Qatar\, catering to children’s creativity\, sports activities\, and educational experiences at different venues across the country. \nMathaf Summer Camp\n \nMathaf Summer Camp is a creative and engaging summer activity designed to inspire children to explore the world of art\, unleash their creativity\, and have fun while learning valuable artistic skills. The camp offers various activities and workshops\, providing children with a supportive environment to express themselves and develop their artistic talents. \nDate: June 25 – June 27 \nTimings: 2 PM – 6 PM \nAge Range: 10 to 15 years old \nAccess: Free to attend\, registration required \nLocation: Mathaf Library \nInstagram: @mathafmodern \n  \nMall of Qatar\n \nMall of Qatar’s Summer Adventures Camp offers weekly workshops and activities for kids! Enjoy an exciting program featuring KidzMondo\, Rush Action Park\, Xtreme Land\, and Novo Cinema. Kids will learn about healthy lifestyles\, explore hospitality\, tour SAC clinic\, and engage in creative crafts and hands-on projects. \nDate: June 30 – August 29 \nTimings: 7:30 AM – 2:30 PM \nAge Range: 4 to 14 years old \nAccess: Weekly and monthly packages are offered. For bookings\, call: 3003 8481\, 5563 4714\, or 6697 4988. \nLocation: Mall of Qatar \nInstagram: @mallofqatar \nKidzania Doha\n \nThe KidZania Doha Summer Camp offers a comprehensive program designed for children to learn\, play\, and explore throughout the summer months. Participants can engage in a variety of activities aimed at both fun and educational experiences\, providing a structured and enjoyable environment.  \nDate: June 16 – August 30 \nAccess: QAR 699 per week  \nLocation: KidZania Doha\, Aspire Park \nContact: 3073 2225\, 5050 4256\, 6664 0671\, or 5007 5372. \nInstagram: @kidzania.doha \nEroe Sports Center\n \nExperience a summer of Multi-Sports activities at Eroe Sports Center’s Summer Camp located in Al Waab at Valley Forge School. Designed for children aged 3 to 12 years old\, the camp offers a range of enjoyable sports activities in a safe and supervised environment. \nDate: June 23 – August 22 \nTimings: 8 AM to 1 PM \nAge Range: 3 to 12 years old \nAccess: Registration is required. \nLocation: Al Waab\, Valley Forge School \nContact: 60060440 / 6622322 \nInstagram: @eroesports.qa \nQatar National Library\n \nThe Qatar National Library will host its fifth Summer Camp for Children offering many exciting activities. Including STEM sessions\, creative workshops\, storytimes\, book clubs\, and educational programs about the Prophets of Allah.  \nDate: June 23 – August 29\, 2024 \nAccess: Click here to register \nLocation: Education City \nMolecular Education with Doha Beach Club\n \nJoin the Molecular Summer Camp at Doha Beach Club for exciting science experiments\, healthy cooking\, innovative engineering challenges\, team-building activities\, and beach fun. Campers will enjoy trampolines\, swimming\, floating theme parks\, and kayaking. \nDate: June 23 – August 15  \nTimings: 8 AM – 1 PM \nAccess: Registration is required. \nLocation: Doha Beach Club \nContact: 77016466 \nInstagram: @molecular_education \nLeader of Tomorrow – Al Hadaf Shooting Range\n \nAlhadaf Shooting Range Summer Club’s first camp develops leadership\, teamwork\, and communication skills. It includes weapon safety courses\, shooting training\, team-building activities\, breakfast\, prizes\, and certificates. Sessions run monthly\, with different times for ages 7-10 and 10-17. \nDate & Timings: From July 7 \nMonthly Program days:\nSunday\, Monday\, & Tuesday from 10 AM – 12 PM (from 7 to 10 years) \nMonday\, Tuesday\, Wednesday\, and Thursday from 12:00 PM to 2:30 PM (from 10 years and over). \nAccess: Registration is required. \n7 to 10 years – QAR 850 per child \n10 to 17 years – QAR 1650 per child (4 sessions per week: Monday\, Tuesday\, Wednesday\, and Thursday. A total of 16 sessions per month.) \nLocation: Al Hadaf Shooting Range – Aspire Zone \nContact: 7477 9977 (WhatsApp) \nInstagram: @alhadafrange
URL:https://974qa.net/event/2024-summer-camps-in-qatar/
CATEGORIES:Education
ATTACH;FMTTYPE=image/jpeg:https://974qa.net/wp-content/uploads/2024/06/Summer-Camps-Qatar-2024-Doha.jpg
END:VEVENT
END:VCALENDAR