BEGIN:VCALENDAR
VERSION:2.0
PRODID:-//974 Qatar - ECPv6.2.9//NONSGML v1.0//EN
CALSCALE:GREGORIAN
METHOD:PUBLISH
X-ORIGINAL-URL:https://974qa.net
X-WR-CALDESC:Events for 974 Qatar
REFRESH-INTERVAL;VALUE=DURATION:PT1H
X-Robots-Tag:noindex
X-PUBLISHED-TTL:PT1H
BEGIN:VTIMEZONE
TZID:Europe/Moscow
BEGIN:STANDARD
TZOFFSETFROM:+0300
TZOFFSETTO:+0300
TZNAME:MSK
DTSTART:20250101T000000
END:STANDARD
END:VTIMEZONE
BEGIN:VEVENT
DTSTART;TZID=Europe/Moscow:20250821T100000
DTEND;TZID=Europe/Moscow:20251004T220000
DTSTAMP:20260425T192029
CREATED:20250821T101231Z
LAST-MODIFIED:20250821T111437Z
UID:13462-1755770400-1759615200@974qa.net
SUMMARY:Gear Up & Win at Mall of Qatar
DESCRIPTION:لقراءة هذا المقال باللغة العربية اضغط هنا\nBack to School just got more rewarding at Mall of Qatar. Shop for QAR 200 at any store from August 21 to October 4 for a chance to win electronics\, kids’ bedroom sets & gift vouchers. \nSpecial bonus: Get 2x coupons when you shop from Sunday to Tuesday. \nDuration: August 21 to October 4\, 2025 \nDraw dates: Sept. 7\, 14\, 21\, 28 & Oct. 5\nTime: 7:00 PM\nLocation: Oasis stage\, Mall of Qatar \nShop now and be one of the 500 lucky winners!\nCheck Mall of Qatar website for the Terms & Conditions.
URL:https://974qa.net/event/gear-up-win-at-mall-of-qatar/
LOCATION:Mall of Qatar\, Al Jahhaniya Interchange\, Street 373 North 373 Ring Road\, Ar-Rayyan
CATEGORIES:Shopping
ATTACH;FMTTYPE=image/jpeg:https://974qa.net/wp-content/uploads/2025/08/Mall-of-Qatar-Back-to-school-shopping-doha.jpg
END:VEVENT
BEGIN:VEVENT
DTSTART;TZID=Europe/Moscow:20251029T100000
DTEND;TZID=Europe/Moscow:20251101T220000
DTSTAMP:20260425T192029
CREATED:20251026T101046Z
LAST-MODIFIED:20251026T110329Z
UID:14001-1761732000-1762034400@974qa.net
SUMMARY:Mega Sale at Mall of Qatar
DESCRIPTION:لقراءة هذا المقال باللغة العربية اضغط هنا\nGet Up to 70% off at your favorite brands! Mall of Qatar’s Mega Sale offers you exclusive deals at over 80 stores\, from fashion\, health & beauty\, electronics\, home appliances and more. \nDate: October 29 – November 1\, 2025  \nMall Timings: Sunday to Thursday: 10 AM to 10 PM\, Friday: 10 AM to 11:30 AM\, 1  PM to 12  AM\, Saturday: 10  AM to 11  PM \nLocation: Mall of Qatar \nVisit mallofqatar.com.qa for the list of participating stores.
URL:https://974qa.net/event/mega-sale-at-mall-of-qatar-3/
LOCATION:Mall of Qatar\, Al Jahhaniya Interchange\, Street 373 North 373 Ring Road\, Ar-Rayyan
CATEGORIES:Shopping
ATTACH;FMTTYPE=image/jpeg:https://974qa.net/wp-content/uploads/2025/10/MS-Post_1350x1080_EN.jpg
END:VEVENT
END:VCALENDAR