BEGIN:VCALENDAR
VERSION:2.0
PRODID:-//974 Qatar - ECPv6.2.9//NONSGML v1.0//EN
CALSCALE:GREGORIAN
METHOD:PUBLISH
X-ORIGINAL-URL:https://974qa.net
X-WR-CALDESC:Events for 974 Qatar
REFRESH-INTERVAL;VALUE=DURATION:PT1H
X-Robots-Tag:noindex
X-PUBLISHED-TTL:PT1H
BEGIN:VTIMEZONE
TZID:Europe/Moscow
BEGIN:STANDARD
TZOFFSETFROM:+0300
TZOFFSETTO:+0300
TZNAME:MSK
DTSTART:20250101T000000
END:STANDARD
END:VTIMEZONE
BEGIN:VEVENT
DTSTART;TZID=Europe/Moscow:20250211T070000
DTEND;TZID=Europe/Moscow:20250211T210000
DTSTAMP:20260420T232140
CREATED:20250205T135034Z
LAST-MODIFIED:20250205T151058Z
UID:11721-1739257200-1739307600@974qa.net
SUMMARY:Education City National Sports Day 2025 Series
DESCRIPTION:لقراءة هذا المقال باللغة العربية اضغط هنا\nEducation City is set to host the National Sport Day 2025 Series\, featuring an exciting 2-race lineup. \nRace 1: Education City NSD Run 2025\nDate: 11 Feb 2025 \nTime: 7 AM \nAccess: Click here to register. \nLocation: Education City Stadium \nRace 2: Education City Mountain Bike Trail Races\nDate: 11 Feb 2025 \nTime: 6 PM \nAccess: Click here to register. \nLocation: Education City MTB Trail
URL:https://974qa.net/event/education-city-national-sports-day-2025-series/
LOCATION:Education City Stadium\, Education City\, Doha\, Qatar
CATEGORIES:Sports
ATTACH;FMTTYPE=image/jpeg:https://974qa.net/wp-content/uploads/2025/02/Education-City-Qatar-National-Sports-Day-2025-Run-Race.jpg
END:VEVENT
BEGIN:VEVENT
DTSTART;TZID=Europe/Moscow:20250214T200000
DTEND;TZID=Europe/Moscow:20250214T223000
DTSTAMP:20260420T232140
CREATED:20250130T041554Z
LAST-MODIFIED:20250203T115955Z
UID:11628-1739563200-1739572200@974qa.net
SUMMARY:Match for Hope 2025
DESCRIPTION:لقراءة هذا المقال باللغة العربية اضغط هنا\nMatch for Hope 2025 brings Team Chunkz and IShowSpeed against Team KSI and Aboflah\, with a week of fan engagements\, creator sports competitions\, live podcasts\, and a special halftime performance\, all supporting Education Above All Foundation. \nDate: February 14\, 2025 \nTime: 8 PM \nAccess: Ticketed \nLocation: Stadium 974
URL:https://974qa.net/event/match-for-hope-2025/
LOCATION:Stadium 974\, 7HQ8+G4\, Doha\, Qatar
CATEGORIES:Sports
ATTACH;FMTTYPE=image/jpeg:https://974qa.net/wp-content/uploads/2025/01/Match-For-Hope-2025-Qatar-tickets-Ishowspeed-chunkz-KSI-Aboflah-Doha-1.jpg
END:VEVENT
BEGIN:VEVENT
DTSTART;TZID=Europe/Moscow:20250217T143000
DTEND;TZID=Europe/Moscow:20250222T203000
DTSTAMP:20260420T232140
CREATED:20250208T075836Z
LAST-MODIFIED:20250208T075836Z
UID:11739-1739802600-1740256200@974qa.net
SUMMARY:Qatar ExxonMobil Open 2025
DESCRIPTION:Witness world-class tennis as the Qatar ExxonMobil Open 2025 brings top ATP stars to Doha. \nDate: 17 – 22 February 2025 \nTime: 2:30 PM onwards \nAccess: Click here to register. \nLocation: Khalifa International Tennis and Squash Complex
URL:https://974qa.net/event/qatar-exxonmobil-open-2025/
LOCATION:Khalifa International Tennis and Squash Complex\, Al Majles Twaon Street\, Doha
CATEGORIES:Sports
ATTACH;FMTTYPE=image/jpeg:https://974qa.net/wp-content/uploads/2025/02/Djokovic-Qatar-Tennis-Qatar-ExxonMobil-Open-2025-ATP-Tour-Open.jpg
END:VEVENT
BEGIN:VEVENT
DTSTART;TZID=Europe/Moscow:20250220T170000
DTEND;TZID=Europe/Moscow:20250220T213000
DTSTAMP:20260420T232140
CREATED:20250203T121234Z
LAST-MODIFIED:20250204T110655Z
UID:11691-1740070800-1740087000@974qa.net
SUMMARY:ONE 171: Qatar
DESCRIPTION:لقراءة هذا المقال باللغة العربية اضغط هنا\nONE 171: Qatar on February 20\, 2025\, will feature Jonathan “The General” Haggerty defending his bantamweight kickboxing title against Wei Rui. Joshua “The Passion” Pacio and Jarred “The Monkey God” Brooks will also clash in a trilogy bout to unify the ONE Strawweight MMA Championship. \nDate: 20 February 2025 \nTime: 5 PM onwards \nAccess: Ticketed. \nLocation: Lusail Sports Arena
URL:https://974qa.net/event/one-171-qatar/
LOCATION:Lusail Sports Arena\, Qatar
CATEGORIES:Sports
ATTACH;FMTTYPE=image/jpeg:https://974qa.net/wp-content/uploads/2025/02/One-171-Qatar-MMA-Sports-Event-Qatar.jpg
END:VEVENT
BEGIN:VEVENT
DTSTART;TZID=Europe/Moscow:20250221T120000
DTEND;TZID=Europe/Moscow:20250222T170000
DTSTAMP:20260420T232140
CREATED:20250214T091253Z
LAST-MODIFIED:20250214T110409Z
UID:11880-1740139200-1740243600@974qa.net
SUMMARY:Visit Qatar E1 Doha GP 2025
DESCRIPTION:لقراءة هذا المقال باللغة العربية اضغط هنا\nAs the second round of the UIM E1 World Championship presented by PIF\, this event brings together cutting-edge technology\, high-speed competition\, and a dynamic atmosphere. \nDate: 21 & 22 February 2025 \nTiming: 12 PM \nAccess: Ticketed. \nLocation: The Pearl Island
URL:https://974qa.net/event/visit-qatar-e1-doha-gp-2025/
LOCATION:The Pearl Island\, Qatar
CATEGORIES:Sports
ATTACH;FMTTYPE=image/jpeg:https://974qa.net/wp-content/uploads/2025/02/16x9.jpg
END:VEVENT
END:VCALENDAR