BEGIN:VCALENDAR
VERSION:2.0
PRODID:-//974 Qatar - ECPv6.2.9//NONSGML v1.0//EN
CALSCALE:GREGORIAN
METHOD:PUBLISH
X-WR-CALNAME:974 Qatar
X-ORIGINAL-URL:https://974qa.net
X-WR-CALDESC:Events for 974 Qatar
REFRESH-INTERVAL;VALUE=DURATION:PT1H
X-Robots-Tag:noindex
X-PUBLISHED-TTL:PT1H
BEGIN:VTIMEZONE
TZID:Europe/Moscow
BEGIN:STANDARD
TZOFFSETFROM:+0300
TZOFFSETTO:+0300
TZNAME:MSK
DTSTART:20260101T000000
END:STANDARD
END:VTIMEZONE
BEGIN:VEVENT
DTSTART;TZID=Europe/Moscow:20260101T110000
DTEND;TZID=Europe/Moscow:20260201T220000
DTSTAMP:20260424T173946
CREATED:20251231T183419Z
LAST-MODIFIED:20260101T150035Z
UID:14602-1767265200-1769983200@974qa.net
SUMMARY:Grand Winter Sale & Rewards at Mall of Qatar
DESCRIPTION:لقراءة هذا المقال باللغة العربية اضغط هنا\nWinter shopping just got more rewarding at Mall of Qatar! \nFrom Jan. 1 – 30\, enjoy exclusive savings and enter the draw to win 2 Jetour G700 with every QAR 200 purchase. \nDraw dates: Jan. 25 & Feb. 1\nBring your loved ones and win big this January! \nVisit mallofqatar.com.qa for discounts and Terms & Conditions.
URL:https://974qa.net/event/grand-winter-sale-rewards-at-mall-of-qatar/
LOCATION:Mall of Qatar\, Al Jahhaniya Interchange\, Street 373 North 373 Ring Road\, Ar-Rayyan
CATEGORIES:Shopping
ATTACH;FMTTYPE=image/jpeg:https://974qa.net/wp-content/uploads/2025/12/Mall-of-Qatar-Shopping-Winter-Sale-Doha.jpg
END:VEVENT
BEGIN:VEVENT
DTSTART;TZID=Europe/Moscow:20260109T053000
DTEND;TZID=Europe/Moscow:20260109T103000
DTSTAMP:20260424T173946
CREATED:20260104T104702Z
LAST-MODIFIED:20260104T130620Z
UID:14629-1767936600-1767954600@974qa.net
SUMMARY:Seashore Triathlon 2026
DESCRIPTION:لقراءة هذا المقال باللغة العربية اضغط هنا\nThe 2026 Seashore Triathlon brings athletes of all ages for a dynamic day of competition\, featuring Olympic and Sprint Triathlons alongside Youth Duathlon and Youth & Kids Runs in a vibrant seaside setting. \nDate: 9 January 2026 \nTime: 5:30 AM to 10:30 AM \nAccess: Registration required. \nLocation: Katara Beach
URL:https://974qa.net/event/seashore-triathlon-2026/
LOCATION:Katara Beach Arena\, Qatar
CATEGORIES:Sports
ATTACH;FMTTYPE=image/jpeg:https://974qa.net/wp-content/uploads/2026/01/SnapInsta.to_600914568_18111611521721108_8828756739371490364_n.jpg
END:VEVENT
BEGIN:VEVENT
DTSTART;TZID=Europe/Moscow:20260113T183000
DTEND;TZID=Europe/Moscow:20260113T200000
DTSTAMP:20260424T173946
CREATED:20260111T104119Z
LAST-MODIFIED:20260111T120744Z
UID:14684-1768329000-1768334400@974qa.net
SUMMARY:‘Al Nayla’ Documentary Screening
DESCRIPTION:لقراءة هذا المقال باللغة العربية اضغط هنا\nMsheireb Museums\, in collaboration with the Australian Embassy in Qatar and Qatar Television\, will host a public screening of the Qatar TV documentary Al Nayla \nDate: Tuesday\, 13 January 2026 \nTime: 6:30 PM \nAccess: Attendance is limited and available on a first-come\, first-served basis.\nTo confirm attendance\, please RSVP at: RSVP.Doha@dfat.gov.au \nLocation: Bin Jelmood House Courtyard – Msheireb Museums \nThe documentary explores the history of pearl diving along Australia’s western coast\, shedding light on pearl cultivation practices\, traditional selection methods\, and the families who shaped the industry across generations.
URL:https://974qa.net/event/al-nayla-documentary-screening/
LOCATION:Bin Jelmood House Courtyard – Msheireb Museums\, Doha\, Qatar
ATTACH;FMTTYPE=image/jpeg:https://974qa.net/wp-content/uploads/2026/01/Msheireb-Museums-Australian-Embassy-Qatar-Qatar-TV-documentary-Al-Nayla-Bin-Jelmood-House-Courtyard.jpeg
END:VEVENT
BEGIN:VEVENT
DTSTART;TZID=Europe/Moscow:20260114T160000
DTEND;TZID=Europe/Moscow:20260124T230000
DTSTAMP:20260424T173946
CREATED:20260104T155402Z
LAST-MODIFIED:20260105T111150Z
UID:14643-1768406400-1769295600@974qa.net
SUMMARY:Qatar International Food Festival 2026
DESCRIPTION:لقراءة هذا المقال باللغة العربية اضغط هنا\nQatar International Food Festival returns in 2026 to mark its 15th edition\, celebrating Qatar’s growing reputation as a global culinary destination. Bringing together authentic local flavours\, international cuisines\, celebrity chefs\, and immersive dining experiences in a vibrant\, family-friendly setting. \nDate: 14–24 January 2026 \nAccess: Free entry \nLocation: Stadium 974
URL:https://974qa.net/event/qatar-international-food-festival-2026/
LOCATION:Stadium 974\, 7HQ8+G4\, Doha\, Qatar
CATEGORIES:Festivals
ATTACH;FMTTYPE=image/jpeg:https://974qa.net/wp-content/uploads/2026/01/Qatar-International-Food-Festival-2026-974-Stadium-precinct-authentic-local-flavours-international-cuisines-celebrity-chefs-dining-experiences-family-friendly-event-doha-qatar-QIFF-.jpg
END:VEVENT
BEGIN:VEVENT
DTSTART;TZID=Europe/Moscow:20260115T200000
DTEND;TZID=Europe/Moscow:20260116T220000
DTSTAMP:20260424T173946
CREATED:20251231T201537Z
LAST-MODIFIED:20260101T145929Z
UID:14605-1768507200-1768600800@974qa.net
SUMMARY:Al Jazeera Orchestra and Choir at Barahat Msheireb
DESCRIPTION:لقراءة هذا المقال باللغة العربية اضغط هنا\nThe Baraha Musical Concert welcomes the Al Jazeera Orchestra & Choir for two exceptional open-air evenings at Barahat Msheireb\, celebrating Arab musical heritage through a refined contemporary lens. \nDate: 15 & 16 January 2026 \nTiming: 8 PM – 10 PM \nAccess: Ticketed. \nLocation: Barahat Msheireb \nEnjoy a live musical experience under the stars\, accompanied by an elegant dining experience\, featuring choral performances of traditional Arabic compositions\, classical instrumental pieces\, and a special fusion of Arabic and Western orchestration.
URL:https://974qa.net/event/al-jazeera-orchestra-and-choir-at-barahat-msheireb/
LOCATION:Barahat Musheireb\, 7GPG+RM8\, Abdulla Bin Thani St\, Doha\, Msheireb Downtown Doha\, Qatar
CATEGORIES:Music
ATTACH;FMTTYPE=image/jpeg:https://974qa.net/wp-content/uploads/2025/12/Msheireb-Properties-U-Events-Al-Jazeera-Orchestra-Choir-Barahat-Msheireb-Qatar-Events.jpg
END:VEVENT
BEGIN:VEVENT
DTSTART;TZID=Europe/Moscow:20260121T160000
DTEND;TZID=Europe/Moscow:20260121T180000
DTSTAMP:20260424T173946
CREATED:20260120T110141Z
LAST-MODIFIED:20260120T132759Z
UID:14780-1769011200-1769018400@974qa.net
SUMMARY:2026 Science Café at Msheireb Museums
DESCRIPTION:لقراءة هذا المقال باللغة العربية اضغط هنا\nMsheireb Museums\, in collaboration with Sidra Medicine\, will host the first Science Café session of 2026 titled “Stem Cells in Precision Medicine: From Research to Reality”. The session will explore how stem cell research is advancing the understanding of disease\, supporting regenerative therapies\, and contributing to the development of personalised healthcare. Clinicians\, researchers\, and specialists from Sidra Medicine will present recent scientific developments and explain key concepts in clear and accessible terms. \nDate: 21 January 2026 \nTime: 4 PM – 6 PM \nAccess: Free to attend. \nLocation:  Bin Jelmood House\, Msheireb Museums
URL:https://974qa.net/event/2026-science-cafe-at-msheireb-museums/
LOCATION:Bin Jelmood House Courtyard – Msheireb Museums\, Doha\, Qatar
CATEGORIES:Education
ATTACH;FMTTYPE=image/png:https://974qa.net/wp-content/uploads/2026/01/Msheireb-Museums-Sidra-Medicine-Science-Cafe-2026-Stem-Cells-Precision-Medicine-Research-Doha-Qatar-1-1-e1768906981638.png
END:VEVENT
BEGIN:VEVENT
DTSTART;TZID=Europe/Moscow:20260123T070000
DTEND;TZID=Europe/Moscow:20260123T120000
DTSTAMP:20260424T173946
CREATED:20260104T101159Z
LAST-MODIFIED:20260104T152808Z
UID:14626-1769151600-1769169600@974qa.net
SUMMARY:HSBC Charity Run
DESCRIPTION:لقراءة هذا المقال باللغة العربية اضغط هنا\nThe HSBC Charity Run for Cancer Research brings runners of all levels together in the heart of Doha to support a meaningful cause. \nDate: 23rd of January\, 2026\n  \nTime: Race start at 7 AM \nAccess: Registration required.  \nLocation: Al Bidda Park\, Doha \nAll registration fees are donated directly to Qatar Cancer Society (QCS)\, ensuring that every step makes a positive impact.
URL:https://974qa.net/event/hsbc-charity-run/
LOCATION:Al Bidda Park\, Qatar
CATEGORIES:Sports
ATTACH;FMTTYPE=image/webp:https://974qa.net/wp-content/uploads/2026/01/HSBC-Charity-Run-Qatar-Ultra-Runners-Event-Doha.webp
END:VEVENT
BEGIN:VEVENT
DTSTART;TZID=Europe/Moscow:20260130T120000
DTEND;TZID=Europe/Moscow:20260130T170000
DTSTAMP:20260424T173946
CREATED:20260125T110210Z
LAST-MODIFIED:20260125T110210Z
UID:14824-1769774400-1769792400@974qa.net
SUMMARY:Spring Carnival at Edison International Academy\, Aspire
DESCRIPTION:Experience a lively Spring Carnival bringing together games\, performances\, local vendors\, henna\, face painting\, and engaging activities. A festive\, family-friendly event designed to create joyful moments and lasting memories for children and parents alike. \nDate: 30 January 2026 \nTiming: 12 PM – 5 PM \nAccess: Free to attend. \nLocation: Edison International Academy\, Aspire \nInstagram: @edison.aspire \n  \n 
URL:https://974qa.net/event/spring-carnival-at-edison-international-academy-aspire/
LOCATION:Edison International Academy\, Aspire\, Al\, Furousiya St\, Doha\, Qatar
CATEGORIES:Entertainment,Festivals
ATTACH;FMTTYPE=image/png:https://974qa.net/wp-content/uploads/2026/01/Spring-Carnival-Edison-International-Academy-Aspire.png
END:VEVENT
END:VCALENDAR