BEGIN:VCALENDAR
VERSION:2.0
PRODID:-//974 Qatar - ECPv6.2.9//NONSGML v1.0//EN
CALSCALE:GREGORIAN
METHOD:PUBLISH
X-ORIGINAL-URL:https://974qa.net
X-WR-CALDESC:Events for 974 Qatar
REFRESH-INTERVAL;VALUE=DURATION:PT1H
X-Robots-Tag:noindex
X-PUBLISHED-TTL:PT1H
BEGIN:VTIMEZONE
TZID:Europe/Moscow
BEGIN:STANDARD
TZOFFSETFROM:+0300
TZOFFSETTO:+0300
TZNAME:MSK
DTSTART:20250101T000000
END:STANDARD
END:VTIMEZONE
BEGIN:VEVENT
DTSTART;TZID=Europe/Moscow:20250428T100000
DTEND;TZID=Europe/Moscow:20250501T220000
DTSTAMP:20260421T185103
CREATED:20250421T132853Z
LAST-MODIFIED:20250421T132853Z
UID:12591-1745834400-1746136800@974qa.net
SUMMARY:Build Your House Exhibition 2025
DESCRIPTION:The highly anticipated sixth edition of Build Your House Exhibition (BYH) returns to Qatar! \nDate: April 28 to May 1\, 2025 \nTime: 10 AM to 10 PM \nAccess: Register via buildyourhouseqatar.com \nLocation: Qatar National Convention Center (QNCC) \nThis premier event connects homeowners with leading architects\, contractors\, and solution providers — offering the latest in design\, technology\, and construction. \n 
URL:https://974qa.net/event/build-your-house-exhibition-2025/
LOCATION:Qatar National Convention Centre\, Ar-Rayyan\, Qatar
CATEGORIES:Conference & Exhibitions
ATTACH;FMTTYPE=image/jpeg:https://974qa.net/wp-content/uploads/2025/04/Build-Your-House-Exhibition-BYH-Qatar-DECC.jpg
END:VEVENT
BEGIN:VEVENT
DTSTART;TZID=Europe/Moscow:20250526T130000
DTEND;TZID=Europe/Moscow:20250529T210000
DTSTAMP:20260421T185103
CREATED:20250521T094733Z
LAST-MODIFIED:20250521T094733Z
UID:12761-1748264400-1748552400@974qa.net
SUMMARY:Project Qatar 2025
DESCRIPTION:Project Qatar 2025 returns as the leading international construction and building materials exhibition in the region\, showcasing cutting-edge innovations and sustainable solutions that are shaping Qatar’s path to a sustainable future. \nDates: from May 26 – May 29\nLocation: Doha Exhibition & Convention Center (DECC)\nTime: Daily from 1 PM to 9 PM\nBook your space: projectqatar.com
URL:https://974qa.net/event/project-qatar-2025/
LOCATION:Doha Exhbition and Convention Center DECC\, West Bay\, Qatar
CATEGORIES:Conference & Exhibitions
ATTACH;FMTTYPE=image/jpeg:https://974qa.net/wp-content/uploads/2025/05/Project-Qatar-Construction-Building-Doha-Event-DECC-scaled.jpg
END:VEVENT
END:VCALENDAR