BEGIN:VCALENDAR
VERSION:2.0
PRODID:-//974 Qatar - ECPv6.2.9//NONSGML v1.0//EN
CALSCALE:GREGORIAN
METHOD:PUBLISH
X-ORIGINAL-URL:https://974qa.net
X-WR-CALDESC:Events for 974 Qatar
REFRESH-INTERVAL;VALUE=DURATION:PT1H
X-Robots-Tag:noindex
X-PUBLISHED-TTL:PT1H
BEGIN:VTIMEZONE
TZID:Europe/Moscow
BEGIN:STANDARD
TZOFFSETFROM:+0300
TZOFFSETTO:+0300
TZNAME:MSK
DTSTART:20240101T000000
END:STANDARD
END:VTIMEZONE
BEGIN:VEVENT
DTSTART;TZID=Europe/Moscow:20240923T100000
DTEND;TZID=Europe/Moscow:20241008T220000
DTSTAMP:20260422T151159
CREATED:20240922T141728Z
LAST-MODIFIED:20240924T090151Z
UID:9464-1727085600-1728424800@974qa.net
SUMMARY:Family Shopping Fair
DESCRIPTION:لقراءة هذا المقال باللغة العربية اضغط هنا\nFamily Shopping Fair features a bazar compromising of various fashion products\, perfumes\, food products from different countries. \nDate: September 23 – October 8\, 2024 \nTime: 10 AM – 10 PM (Daily)\n2 PM – 11 PM (Friday) \nAccess: Free to attend. \nLocation: Doha Exhibition & Convention Center (DECC)
URL:https://974qa.net/event/family-shopping-fair/
LOCATION:Doha Exhbition and Convention Center DECC\, West Bay\, Qatar
CATEGORIES:Shopping
ATTACH;FMTTYPE=image/jpeg:https://974qa.net/wp-content/uploads/2024/09/Shopping-Fair-2024-DECC-Qatar.jpeg
END:VEVENT
BEGIN:VEVENT
DTSTART;TZID=Europe/Moscow:20241013T100000
DTEND;TZID=Europe/Moscow:20241015T220000
DTSTAMP:20260422T151159
CREATED:20240917T110631Z
LAST-MODIFIED:20241007T141301Z
UID:9205-1728813600-1729029600@974qa.net
SUMMARY:Cityscape Qatar 2024
DESCRIPTION:لقراءة هذا المقال باللغة العربية اضغط هنا\nCityscape Qatar 2024 brings together real estate visionaries\, investors\, and industry leaders. Explore groundbreaking projects\, meet top developers\, and unlock unparalleled opportunities in one of the world’s most dynamic markets. \nDate: 13 – 15 October 2024 \nTime: \n13 October from 10:15 AM – 8:00 PM \n14 October from 12:00 PM – 8:00 PM \n15 October from  12:00 PM – 10:00 PM \nAccess: Free to attend.  Registration required. \nLocation: Doha Exhibition & Convention Center (DECC) \nInstagram: @cityscapeqatar
URL:https://974qa.net/event/cityscape-qatar-2024/
LOCATION:Doha Exhbition and Convention Center DECC\, West Bay\, Qatar
CATEGORIES:Conference & Exhibitions
ATTACH;FMTTYPE=image/jpeg:https://974qa.net/wp-content/uploads/2024/09/cityscape-qatar-2024-real-estate-doha-qatar-decc.jpg
ORGANIZER;CN="Cityscape Qatar":MAILTO:cityscapeqatarcs@informa.com
END:VEVENT
END:VCALENDAR