BEGIN:VCALENDAR
VERSION:2.0
PRODID:-//974 Qatar - ECPv6.2.9//NONSGML v1.0//EN
CALSCALE:GREGORIAN
METHOD:PUBLISH
X-WR-CALNAME:974 Qatar
X-ORIGINAL-URL:https://974qa.net
X-WR-CALDESC:Events for 974 Qatar
REFRESH-INTERVAL;VALUE=DURATION:PT1H
X-Robots-Tag:noindex
X-PUBLISHED-TTL:PT1H
BEGIN:VTIMEZONE
TZID:Europe/Moscow
BEGIN:STANDARD
TZOFFSETFROM:+0300
TZOFFSETTO:+0300
TZNAME:MSK
DTSTART:20250101T000000
END:STANDARD
END:VTIMEZONE
BEGIN:VEVENT
DTSTART;TZID=Europe/Moscow:20250430T180000
DTEND;TZID=Europe/Moscow:20250430T223000
DTSTAMP:20260425T231407
CREATED:20250108T121704Z
LAST-MODIFIED:20250109T134347Z
UID:11256-1746036000-1746052200@974qa.net
SUMMARY:Ed Sheeran Live in Doha 2025
DESCRIPTION:لقراءة هذا المقال باللغة العربية اضغط هنا\nGlobal superstar Ed Sheeran is set to perform in Doha\, Qatar\, as part of his +–=÷x Tour. \nDate: 30 April\, 2025 \nTimings: Doors open 6 APM \nAccess: Ticketed.
URL:https://974qa.net/event/ed-sheeran-live-in-doha-2025/
LOCATION:Lusail Sports Arena\, Qatar
CATEGORIES:Music
ATTACH;FMTTYPE=image/jpeg:https://974qa.net/wp-content/uploads/2025/01/Ed-Sheeran-Doha-Qatar-concert-tickets-lusail.jpg
END:VEVENT
END:VCALENDAR