BEGIN:VCALENDAR
VERSION:2.0
PRODID:-//974 Qatar - ECPv6.2.9//NONSGML v1.0//EN
CALSCALE:GREGORIAN
METHOD:PUBLISH
X-WR-CALNAME:974 Qatar
X-ORIGINAL-URL:https://974qa.net
X-WR-CALDESC:Events for 974 Qatar
REFRESH-INTERVAL;VALUE=DURATION:PT1H
X-Robots-Tag:noindex
X-PUBLISHED-TTL:PT1H
BEGIN:VTIMEZONE
TZID:Europe/Moscow
BEGIN:STANDARD
TZOFFSETFROM:+0300
TZOFFSETTO:+0300
TZNAME:MSK
DTSTART:20240101T000000
END:STANDARD
END:VTIMEZONE
BEGIN:VEVENT
DTSTART;TZID=Europe/Moscow:20240618T200000
DTEND;TZID=Europe/Moscow:20240619T000000
DTSTAMP:20260425T164546
CREATED:20240614T093322Z
LAST-MODIFIED:20240622T153202Z
UID:6952-1718740800-1718755200@974qa.net
SUMMARY:Qatar Tourism Musical Concert Nights this Eid al Adha 2024
DESCRIPTION:Qatar Tourism announces two musical concert events set to take place this Eid: ‘Lailat Elzaman Eljameel’ featuring the remarkable Mai Farouk and Riham AbdelHakim\, and ‘Zikra Remains\,’ a musical homage to the timeless melodies of an Arab icon\, performed by Asma Lmnawar and Oumaima Taleb.\n\nDates: June 18 & 19\n\n \n\nTimings: 8 PM\n\n \n\nAccess: Ticketed. (Lailat Elzaman Eljameel / Zikra Remains)\n\n \n\nLocation: Al Mayassa Theater in QNCC\n\n \n\nInstagram: @visitqatar
URL:https://974qa.net/event/qatar-tourism-musical-concert-nights-this-eid-al-adha-2024/
LOCATION:Qatar National Convention Centre\, Ar-Rayyan\, Qatar
CATEGORIES:Entertainment,Music
ATTACH;FMTTYPE=image/jpeg:https://974qa.net/wp-content/uploads/2024/06/Lailat-Elzaman-Eljameel-Zikra-Remains-Qatar-Tourism-Music-Concert-Eid-al-Adha-2024.jpg
END:VEVENT
END:VCALENDAR