BEGIN:VCALENDAR
VERSION:2.0
PRODID:-//974 Qatar - ECPv6.2.9//NONSGML v1.0//EN
CALSCALE:GREGORIAN
METHOD:PUBLISH
X-WR-CALNAME:974 Qatar
X-ORIGINAL-URL:https://974qa.net
X-WR-CALDESC:Events for 974 Qatar
REFRESH-INTERVAL;VALUE=DURATION:PT1H
X-Robots-Tag:noindex
X-PUBLISHED-TTL:PT1H
BEGIN:VTIMEZONE
TZID:UTC
BEGIN:STANDARD
TZOFFSETFROM:+0000
TZOFFSETTO:+0000
TZNAME:UTC
DTSTART:20240101T000000
END:STANDARD
END:VTIMEZONE
BEGIN:VEVENT
DTSTART;TZID=UTC:20240221T170000
DTEND;TZID=UTC:20240302T000000
DTSTAMP:20260422T045143
CREATED:20240221T110746Z
LAST-MODIFIED:20240225T034345Z
UID:4120-1708534800-1709337600@974qa.net
SUMMARY:Luminous Festival Lusail 2024
DESCRIPTION:What is Luminous Festival? \nLuminous Festival is an event that will illuminate Lusail Boulevard with vibrant light displays across themed zones like Gateway\, Earth\, Water\, Fire (with firework shows)\, and Air. The event will offer family-friendly fun\, live music and fascinating light shows with a celebration of light and magical ambiance. This inaugural event will mark the culmination of this year’s winter season with a fusion of creativity and innovation.\n \nKey information about Luminous Lusail 2024 \nDates: 21 February to 2 March  \nTimings: 6 PM to 12 AM \nLocation: Al Sa’ad Plaza in Lusail Boulevard \nAccess: Free to attend \nWhat to expect?\nLIGHT SHOWS \nLED ballerinas | 21 – 23 February \nGlowing jugglers | 24 & 25 February \nLaser man | 29 February – 2 March \nIllusionist | 2 March \nMUSIC & DANCING \nGlowing water drums | Daily except 26 & 27 February  \nDJ set | Daily \nCaravan Dream live | 21 – 24 February \, 29 February – 2 March \nLED hip-hop dancers | \nLaser harp | 21 – 23 February  \nTESLA INTERACTIVE SCIENCE SHOW  \nA captivating fusion showcasing science displays for an interactive and enlightening experience from 25 to 27 February \nARTS & CRAFTS \nGlow-in-the-dark face painting | Daily \nSpeed painter | 23 & 24 Feb \nTo read more about the event\, click here
URL:https://974qa.net/event/luminous-lusail-2024/
LOCATION:Lusail Boulevard\, Lusail\, Qatar
CATEGORIES:Festivals
ATTACH;FMTTYPE=image/jpeg:https://974qa.net/wp-content/uploads/2024/02/LUMINOUS_LUSAIL_2024.jpg
END:VEVENT
END:VCALENDAR