BEGIN:VCALENDAR
VERSION:2.0
PRODID:-//974 Qatar - ECPv6.2.9//NONSGML v1.0//EN
CALSCALE:GREGORIAN
METHOD:PUBLISH
X-WR-CALNAME:974 Qatar
X-ORIGINAL-URL:https://974qa.net
X-WR-CALDESC:Events for 974 Qatar
REFRESH-INTERVAL;VALUE=DURATION:PT1H
X-Robots-Tag:noindex
X-PUBLISHED-TTL:PT1H
BEGIN:VTIMEZONE
TZID:Europe/Moscow
BEGIN:STANDARD
TZOFFSETFROM:+0300
TZOFFSETTO:+0300
TZNAME:MSK
DTSTART:20250101T000000
END:STANDARD
END:VTIMEZONE
BEGIN:VEVENT
DTSTART;TZID=Europe/Moscow:20250116T100000
DTEND;TZID=Europe/Moscow:20250125T220000
DTSTAMP:20260419T210954
CREATED:20250108T112053Z
LAST-MODIFIED:20250109T134514Z
UID:11246-1737021600-1737842400@974qa.net
SUMMARY:Qatar Kite Festival 2025
DESCRIPTION:لقراءة هذا المقال باللغة العربية اضغط هنا\nThe Qatar Kite Festival 2025 to feature stunning displays of vibrant kites\, kids’ kite workshops\, and delicious bites from food carts. \nTimings: To be confirmed. \nLocations: Sealine from 16 to 18 January 2025 \nOld Doha Port from 19 to 25 January 2025 \nAccess: Free to attend.
URL:https://974qa.net/event/qatar-kite-festival-2025/
LOCATION:Old Doha Port\, 7HX2+25F\, Unnamed Road\, Doha\, Doha\, Qatar
CATEGORIES:Festivals
ATTACH;FMTTYPE=image/jpeg:https://974qa.net/wp-content/uploads/2024/01/A-sky-full-of-kites.jpg
END:VEVENT
END:VCALENDAR