BEGIN:VCALENDAR
VERSION:2.0
PRODID:-//974 Qatar - ECPv6.2.9//NONSGML v1.0//EN
CALSCALE:GREGORIAN
METHOD:PUBLISH
X-WR-CALNAME:974 Qatar
X-ORIGINAL-URL:https://974qa.net
X-WR-CALDESC:Events for 974 Qatar
REFRESH-INTERVAL;VALUE=DURATION:PT1H
X-Robots-Tag:noindex
X-PUBLISHED-TTL:PT1H
BEGIN:VTIMEZONE
TZID:Europe/Moscow
BEGIN:STANDARD
TZOFFSETFROM:+0300
TZOFFSETTO:+0300
TZNAME:MSK
DTSTART:20250101T000000
END:STANDARD
END:VTIMEZONE
BEGIN:VEVENT
DTSTART;TZID=Europe/Moscow:20250717T160000
DTEND;TZID=Europe/Moscow:20250726T220000
DTSTAMP:20260423T150736
CREATED:20250720T101509Z
LAST-MODIFIED:20250720T112144Z
UID:13227-1752768000-1753567200@974qa.net
SUMMARY:Ice Cream Galleria Msheireb Downtown Doha
DESCRIPTION:لقراءة هذا المقال باللغة العربية اضغط هنا\nEnjoy a delightful family outing at Ice Cream Galleria 🍨 Explore a world of exciting flavors — from timeless classics to trendy creations — paired with fun\, interactive activities for all ages. \nDate: July 17 – July 26\, 2025 \nTime: 4 PM – 10 PM \nAccess: Galleria Ice Cream Entry: QAR 15 (includes QAR 10 voucher)\nThe Hangout Entry (30 mins): QAR 25\nThe Hangout Entry (1hour): QAR 40\nArts & Crafts: QAR 15 \nLocation: Msheireb Galleria
URL:https://974qa.net/event/ice-cream-galleria-msheireb-downtown-doha/
LOCATION:Msheireb Galleria\, 7GPH+662\, Wadi Msheireb St\, Doha\, Doha\, Doha\, Qatar
CATEGORIES:Festivals
ATTACH;FMTTYPE=image/png:https://974qa.net/wp-content/uploads/2025/07/ice-cream-galleria-msheireb-doha-qatar.png
END:VEVENT
BEGIN:VEVENT
DTSTART;TZID=Europe/Moscow:20250720T100000
DTEND;TZID=Europe/Moscow:20250930T220000
DTSTAMP:20260423T150736
CREATED:20250720T122523Z
LAST-MODIFIED:20250720T124712Z
UID:13239-1753005600-1759269600@974qa.net
SUMMARY:Summerland at Doha Festival City
DESCRIPTION:لقراءة هذا المقال باللغة العربية اضغط هنا\nThis summer\, escape the heat and experience the wonder of Summerland at Doha Festival City. From frozen dessert pop-ups and fashion showcases to fun-filled fitness challenges. Doha Festival City has wide activation is packed with excitement for the whole family. \nIgloo Dessert Pop-Up\nCool off with delicious frozen treats from our Igloo Dessert Station located at Step Node (near Debenhams)\, featuring ice cream\, frozen yogurt\, and summer sweets in collaboration with your favourite F&B brands.\nParticipating Brands: Pinkberry\, Eatly & more. \nSummer Fashion & Beauty Pop-Up\nExplore the season’s trendiest styles at our Fashion & Beauty installation in Center Court. Featuring beachwear\, eyewear\, and accessories from top brands\nFeaturing brands: Psyhco Bunny\, Villebrequin\, Charlottle Tilbury\, Nine West\, Kiddy Zone\, Yateem\, H&M\, Tommy Hilfiger\, Kiko Milano\, Kiddie Zone\, Toys R Us\, Hollister\, Abercrombie & Fitch\, M&S & more. \n10\,000 Steps Challenge\nIn collaboration with Qatar Sports For All Federation\, Doha Festival City proudly launches the 10K Steps Mall Challenge from July 1 – August 31\, 2025.\nWalk 10\,000 steps using the QSFA app\, earn exclusive vouchers\, and win weekly prizes. A fun\, healthy way to stay active during Summerland! \nMall Timings: Weekday from 10 AM – 10 PM \nWeekends from 10 AM – 11 PM (Closed for Friday Prayer 11:30 – 1:00 PM) \nLocation: Doha Festival City
URL:https://974qa.net/event/summerland-at-doha-festival-city/
LOCATION:Doha Festival City\, Umm Salal Mohammad\, Ad Dawḩah\, Qatar\, Qatar
CATEGORIES:Shopping
ATTACH;FMTTYPE=image/jpeg:https://974qa.net/wp-content/uploads/2025/07/Summerland-Doha-Festival-City-Doha-Qatar-summer-activities-indoor-.jpg
END:VEVENT
END:VCALENDAR