BEGIN:VCALENDAR
VERSION:2.0
PRODID:-//974 Qatar - ECPv6.2.9//NONSGML v1.0//EN
CALSCALE:GREGORIAN
METHOD:PUBLISH
X-WR-CALNAME:974 Qatar
X-ORIGINAL-URL:https://974qa.net
X-WR-CALDESC:Events for 974 Qatar
REFRESH-INTERVAL;VALUE=DURATION:PT1H
X-Robots-Tag:noindex
X-PUBLISHED-TTL:PT1H
BEGIN:VTIMEZONE
TZID:Europe/Moscow
BEGIN:STANDARD
TZOFFSETFROM:+0300
TZOFFSETTO:+0300
TZNAME:MSK
DTSTART:20250101T000000
END:STANDARD
END:VTIMEZONE
BEGIN:VEVENT
DTSTART;TZID=Europe/Moscow:20250814T160000
DTEND;TZID=Europe/Moscow:20250816T220000
DTSTAMP:20260419T171112
CREATED:20250811T135210Z
LAST-MODIFIED:20250811T143352Z
UID:13382-1755187200-1755381600@974qa.net
SUMMARY:Years of Culture Summer Family Weekend
DESCRIPTION:لقراءة هذا المقال باللغة العربية اضغط هنا\nThe Summer Family Weekend at Teen Hub\, organized by Years of Culture with the Embassy of Argentina in Qatar and ProChile\, offered children aged 4–15 and their families a lively three-day celebration of Argentinian and Chilean culture through workshops\, films\, and interactive activities that blended fun with cultural discovery. \nDate: 14 – 16 August 2025 \nTime: 4 PM – 10 PM \nAccess: Admission is free with online registration (by email yocpress@qm.org.qa) \nLocation: Teen Hub (green-roofed building next to the Fire Station) \nThe Summer Family Weekend at Teen Hub\, part of the Qatar-Argentina 2025 and Qatar-Chile 2025 Years of Culture\, offered families an immersive celebration of Latin American heritage alongside Qatari traditions. Over three days\, children engaged in creative workshops like crafting Moai clay sculptures\, weaving Argentine-inspired tote bags\, exploring Chile’s wildlife through art\, and making traditional Qatari items with Dadu. Activities ranged from stargazing and science experiments to collaborative mural painting\, folk dance lessons\, Spanish language games\, and a selection of Made in Qatar family films in partnership with the Doha Film Institute. \nThe event also featured Latin American snacks and drinks\, hands-on equine care and veterinary science sessions\, and lively cultural exchanges led by educators and artists from Argentina\, Chile\, and Qatar. Blending creativity\, learning\, and play\, the weekend strengthened cross-cultural understanding while fostering lasting connections between communities.
URL:https://974qa.net/event/years-of-culture-summer-family-weekend/
LOCATION:Teen Hub\, 8G34+HQV Bus Stop 12608\, Doha\, Doha\, Qatar
CATEGORIES:Art & Culture
ATTACH;FMTTYPE=image/webp:https://974qa.net/wp-content/uploads/2025/08/Years-of-culture-teen-hub-doha-qatar.webp
END:VEVENT
END:VCALENDAR